BEGIN:VCALENDAR
VERSION:2.0
PRODID:-//wp-events-plugin.com//7.2.3.1//EN
TZID:Europe/Warsaw
X-WR-TIMEZONE:Europe/Warsaw
BEGIN:VEVENT
UID:25844@night4u.pl
DTSTART;TZID=Europe/Warsaw:20190908T120000
DTEND;TZID=Europe/Warsaw:20190908T210000
DTSTAMP:20190830T162637Z
URL:https://night4u.pl/wydarzenia/turniej-winobraniowy-hotshots/
SUMMARY:Turniej Winobraniowy HotShots
DESCRIPTION:Wszystkich miłośników bilarda zapraszamy na Turniej Winobran
 iowy :D\n\nData: 08.09.2019r. 12:00\nOdmiana 9 bil\, system rozgrywek i dy
 stans meczy zależny od frekwencji\nWpisowe 30zł\n\nNagrody rzeczowe dla 
 najlepszych zawodników o łącznej wartości 1300zł\n\nWięcej informacj
 i u Sędziego Głównego:\nRobert Kozłowski 661 777 477\n\nPartnerzy:\nBi
 llboardyzg.pl Hasta La Vista Zielona Góra Athletic Sport SAVICKI Pracowni
 a Optyczna Tomasz Puślecki Turnieje bilardowe klubu Hot Shots Music Club 
 & Bilard Marcin Nitschke Marcin Nitschke Maestato
ATTACH;FMTTYPE=image/jpeg:https://night4u.pl/wp-content/uploads/2019/08/60
 513_image_69385137_2577952465558580_677745293847953408_o.jpg
CATEGORIES:lubuskie
LOCATION:Hot Shots Music Club &amp\; Bilard\, Gen. Jarosława Dąbrowskiego
  41a/1\, Zielona Góra\, 65-021\, Poland
GEO:51.94453;15.4987
X-APPLE-STRUCTURED-LOCATION;VALUE=URI;X-ADDRESS=Gen. Jarosława Dąbrowskie
 go 41a/1\, Zielona Góra\, 65-021\, Poland;X-APPLE-RADIUS=100;X-TITLE=Hot 
 Shots Music Club & Bilard:geo:51.94453,15.4987
END:VEVENT
BEGIN:VTIMEZONE
TZID:Europe/Warsaw
X-LIC-LOCATION:Europe/Warsaw
BEGIN:DAYLIGHT
DTSTART:20190331T030000
TZOFFSETFROM:+0100
TZOFFSETTO:+0200
TZNAME:CEST
END:DAYLIGHT
END:VTIMEZONE
END:VCALENDAR