BEGIN:VCALENDAR
VERSION:2.0
PRODID:-//wp-events-plugin.com//7.2.3.1//EN
TZID:Europe/Warsaw
X-WR-TIMEZONE:Europe/Warsaw
BEGIN:VEVENT
UID:48170@night4u.pl
DTSTART;TZID=Europe/Warsaw:20200327T210000
DTEND;TZID=Europe/Warsaw:20200328T060000
DTSTAMP:20200319T000916Z
URL:https://night4u.pl/wydarzenia/twerkin-friday-27-03-do-2300-lista-fb-fr
 ee/
SUMMARY:Twerkin Friday // 27.03 // Do 23:00 lista FB free
DESCRIPTION:W piątek 27 marca będzie okazja porządnie pokręcić tyłecz
 kiem! Sprawimy\, że do rana będziecie królami parkietu! Tego wieczoru z
 agrają nasi rezydenci i DJ 69Beats! Będzie grrrrubo! \n-----------------
 ----------------------------------------\n⭐️ PIĄTEK ⭐️\n\n➡️S
 tart 21:00\n➡️Do 23:00 - lista FB free / LISTE FB ZAMYKAMY O 20:00\n
 ➡️Od 23:00 - 24:00 - 10 zł\n➡️Po 24:00 - 15 zł\n\nBilet wstępu 
 obowiązuje do lokali:\nHelium Club\nRzut Beretem\nEl Cubano\n\n\nseats &a
 mp\; tables/ rezerwacje stolików\n☎️: 725700205 (wt-sob. 17:00-20:00)
 \nWejście 18+ / DOOR SELECTION
ATTACH;FMTTYPE=image/jpeg:https://night4u.pl/wp-content/uploads/2020/02/16
 2604_image_87330712_2568477610094072_1454513682930204672_o.jpg
CATEGORIES:lubelskie
LOCATION:Helium Club\, Hempla 5\, Lublin\, 20-008\, Poland
GEO:51.245425;22.557276
X-APPLE-STRUCTURED-LOCATION;VALUE=URI;X-ADDRESS=Hempla 5\, Lublin\, 20-008\
 , Poland;X-APPLE-RADIUS=100;X-TITLE=Helium Club:geo:51.245425,22.557276
END:VEVENT
BEGIN:VTIMEZONE
TZID:Europe/Warsaw
X-LIC-LOCATION:Europe/Warsaw
BEGIN:STANDARD
DTSTART:20191027T020000
TZOFFSETFROM:+0200
TZOFFSETTO:+0100
TZNAME:CET
END:STANDARD
END:VTIMEZONE
END:VCALENDAR