BEGIN:VCALENDAR
VERSION:2.0
PRODID:-//wp-events-plugin.com//7.2.3.1//EN
TZID:Europe/Warsaw
X-WR-TIMEZONE:Europe/Warsaw
BEGIN:VEVENT
UID:34085@night4u.pl
DTSTART;TZID=Europe/Warsaw:20191214T230000
DTEND;TZID=Europe/Warsaw:20191215T060000
DTSTAMP:20191215T022853Z
URL:https://night4u.pl/wydarzenia/tylko-polskie-techno-14-12-tama-lista-fb
 /
SUMMARY:Tylko Polskie Techno / 14.12 / TAMA - lista fb*
DESCRIPTION:Sami prowadzą kluby\, tworzą muzykę\, budują scenę. \nRezy
 dują w najlepszych polskich miejscówkach\, \nRegularnie zbierają tłumy
  na najważniejszych festiwalach. \nSzacunek lokalsów zdobywają od lat. 
 \nPochodzą z różnych miast w Polsce\, spotykają się w Poznaniu.\nOdda
 jąc hołd zasadzie „cudze chwalicie swego nie znacie”\nPrezentujemy c
 ykl Tylko Polskie Techno!\n\n14.12 / TAMA / POZNAŃ\n\nLINE-UP:\nAngelo Mi
 ke\nDUSS\nVONDA7\nMichal Gutkowski\nKemot\n\nWSTĘP: \nLISTA FB do półno
 cy wchodzi za FREE\nReszta: \nDo 00:00 -  20 PLN\nPo 00:00 -  25 PLN
ATTACH;FMTTYPE=image/jpeg:https://night4u.pl/wp-content/uploads/2019/10/87
 168_image_74272613_2467811160206595_4374912636131737600_o.jpg
CATEGORIES:wielkopolskie
LOCATION:Tama\, ul. Niezłomnych 2\, Poznan\, 61-714\, Poland
GEO:52.402524;16.922364
X-APPLE-STRUCTURED-LOCATION;VALUE=URI;X-ADDRESS=ul. Niezłomnych 2\, Poznan
 \, 61-714\, Poland;X-APPLE-RADIUS=100;X-TITLE=Tama:geo:52.402524,16.922364
END:VEVENT
BEGIN:VTIMEZONE
TZID:Europe/Warsaw
X-LIC-LOCATION:Europe/Warsaw
BEGIN:STANDARD
DTSTART:20191027T020000
TZOFFSETFROM:+0200
TZOFFSETTO:+0100
TZNAME:CET
END:STANDARD
END:VTIMEZONE
END:VCALENDAR