BEGIN:VCALENDAR
VERSION:2.0
PRODID:-//wp-events-plugin.com//7.2.3.1//EN
TZID:Europe/Warsaw
X-WR-TIMEZONE:Europe/Warsaw
BEGIN:VEVENT
UID:11698@night4u.pl
DTSTART;TZID=Europe/Warsaw:20190421T220000
DTEND;TZID=Europe/Warsaw:20190422T050000
DTSTAMP:20190403T193335Z
URL:https://night4u.pl/wydarzenia/tylko-polskie-techno-wielkanoc-w-nrd/
SUMMARY:Tylko Polskie Techno / Wielkanoc w NRD!
DESCRIPTION:Po sukcesie pierwszej edycji Tylko Polskie Techno zapraszamy na
  druga edycję\, która odbędzie się w Wielkanoc! TPT to cykl prezentuj
 ący to co najlepsze na polskiej scenie techno. Najlepsi dj'e\, producenci
 \, aktywiści i promotorzy w jednym miejscu!\n\nZagrają: \nDeas (Second S
 tate\, Planet Rhythm)\nTruant (Smolna\, Luzztro)\nKemot (Tylko Polskie Tec
 hno)\n\nWstęp: \n10 PLN (do 23:00)\n15 PLN (po 23:00)\n\nSami prowadzą k
 luby\, tworzą muzykę\, budują scenę. \nRezydują w najlepszych polskic
 h miejscówkach\, \nRegularnie zbierają tłumy na najważniejszych festiw
 alach. \nSzacunek lokalsów zdobywają od lat. \nPochodzą z różnych mia
 st w Polsce\, spotykają się w Poznaniu.\nOddając hołd zasadzie „cudz
 e chwalicie swego nie znacie”\nPrezentujemy cykl Tylko Polskie Techno\, 
 \nPodczas którego za selekcje odpowiadać będą \nTylko polscy producenc
 i i DJ'e!
ATTACH;FMTTYPE=image/jpeg:https://night4u.pl/wp-content/uploads/2019/04/30
 070_image_54435002_2034269016621128_7442190524439592960_o.jpg
CATEGORIES:kujawsko-pomorskie
LOCATION:NRD Klub\, Browarna 6\, Torun\, 87-100\, Poland
GEO:53.011128;18.612081
X-APPLE-STRUCTURED-LOCATION;VALUE=URI;X-ADDRESS=Browarna 6\, Torun\, 87-100
 \, Poland;X-APPLE-RADIUS=100;X-TITLE=NRD Klub:geo:53.011128,18.612081
END:VEVENT
BEGIN:VTIMEZONE
TZID:Europe/Warsaw
X-LIC-LOCATION:Europe/Warsaw
BEGIN:DAYLIGHT
DTSTART:20190331T030000
TZOFFSETFROM:+0100
TZOFFSETTO:+0200
TZNAME:CEST
END:DAYLIGHT
END:VTIMEZONE
END:VCALENDAR