BEGIN:VCALENDAR
VERSION:2.0
PRODID:-//wp-events-plugin.com//7.2.3.1//EN
TZID:Europe/Warsaw
X-WR-TIMEZONE:Europe/Warsaw
BEGIN:VEVENT
UID:41985@night4u.pl
DTSTART;TZID=Europe/Warsaw:20200111T210000
DTEND;TZID=Europe/Warsaw:20200112T030000
DTSTAMP:20200111T161323Z
URL:https://night4u.pl/wydarzenia/tylko-wielkie-przeboje-prowadzi-dj-leon-
 4/
SUMMARY:Tylko Wielkie Przeboje - prowadzi DJ Leon
DESCRIPTION:Zapraszamy na pierwszą w karnawale taneczną sobotę do  A`pro
 pos.Tuż po koncercie Piotra Bukartyka odsłonimy parkiet\, by rytmach naj
 większych przebojów rozpocząć karnawał w A'propos. Za konsoletą stan
 ie sam DJ Leon.\n\nZakładów co prawda nie przyjmujemy\, ale jesteśmy ni
 emal pewni\, że po kwadransie od startu imprezy wszyscy będą tańczyć.
 \n\nBilety: 30zł przedsprzedaż (20zł wstęp\,10 zł konsumpcja)\,30zł 
 w dniu imprezy (tylko wstęp)
ATTACH;FMTTYPE=image/jpeg:https://night4u.pl/wp-content/uploads/2020/01/13
 2445_image_81614986_2577988155587570_4545306611672940544_o.jpg
CATEGORIES:dolnośląskie
LOCATION:A PROPOS\, ul.Wieniawskiego 82\, Wałbrzych\, 58-309\, Poland
GEO:50.817263;16.276605
X-APPLE-STRUCTURED-LOCATION;VALUE=URI;X-ADDRESS=ul.Wieniawskiego 82\, Wałb
 rzych\, 58-309\, Poland;X-APPLE-RADIUS=100;X-TITLE=A PROPOS:geo:50.817263,
 16.276605
END:VEVENT
BEGIN:VTIMEZONE
TZID:Europe/Warsaw
X-LIC-LOCATION:Europe/Warsaw
BEGIN:STANDARD
DTSTART:20191027T020000
TZOFFSETFROM:+0200
TZOFFSETTO:+0100
TZNAME:CET
END:STANDARD
END:VTIMEZONE
END:VCALENDAR