BEGIN:VCALENDAR
VERSION:2.0
PRODID:-//wp-events-plugin.com//7.2.3.1//EN
TZID:Europe/Warsaw
X-WR-TIMEZONE:Europe/Warsaw
BEGIN:VEVENT
UID:16066@night4u.pl
DTSTART;TZID=Europe/Warsaw:20191116T220000
DTEND;TZID=Europe/Warsaw:20191117T050000
DTSTAMP:20191116T054717Z
URL:https://night4u.pl/wydarzenia/tym-razem-nie-wypije-za-duzo-i-dotrwam-d
 o-oczepin/
SUMMARY:Tym razem nie wypiję za dużo i dotrwam do oczepin
DESCRIPTION:Należy sobie stawiać ambitne cele.\nA jeszcze lepiej je reali
 zować.\n\nNa parkiecie czekają na Was: pociągi\, kółeczka i kaczuszki
 .\nO godz. 2:00 kultowe oczepiny.\nPrzez całą noc szampan\, stolik wiejs
 ki i najlepsza weselna muzyka.\n\n♥♥♥♥♥♥♥♥♥♥♥♥♥
 ♥♥♥\n▬▬▬▬▬▬▬▬▬▬▬▬▬▬▬▬▬▬▬▬▬
 ▬▬▬▬▬▬▬\n\nWstęp:\n[18+] - wyłącznie za okazaniem dokumen
 tu tożsamości\n\n22:00-23:00 (Lista Fb) - free\nPozostali - 10/20 PLN\n\
 n✮ Karty klubowe Gorzko Gorzko - darmowy wstęp przez całą noc (jedna/
 uniwersalna karta do wszystkich naszych lokali) ✮\n\nBez stroju formalne
 go\, ubierz się tak jak Ci wygodnie.\nRzecz jasna nie zakładamy dresów\
 , bojówek\, itp. strojów\, które zostawiamy sobie na wypad na domek za 
 miasto.\n\n▬▬▬▬▬▬▬▬▬▬▬▬▬▬▬▬▬▬▬▬▬
 ▬▬▬▬▬▬▬\n\nGorzko Gorzko Szczecin to klub\, w którym w każ
 dy Piątek i Sobotę odbywają się dyskoteki weselne.\nWodzirej\, fotobud
 ka\, muzyka i zabawy weselne\, przekąski oraz powitalny szampan.\nTo tylk
 o część z atrakcji\, których u nas doświadczycie.\n\nHej wesele\, hej
  wesele tańcowało... !
ATTACH;FMTTYPE=image/jpeg:https://night4u.pl/wp-content/uploads/2019/05/39
 391_image_54514348_1915563348571981_506159868609036288_o.jpg
CATEGORIES:zachodniopomorskie
LOCATION:Gorzko Gorzko Szczecin\, Kardynała Stefana Wyszyńskiego 14\, Szc
 zecin\, 70-001\, Poland
GEO:53.423945;14.552926
X-APPLE-STRUCTURED-LOCATION;VALUE=URI;X-ADDRESS=Kardynała Stefana Wyszyńs
 kiego 14\, Szczecin\, 70-001\, Poland;X-APPLE-RADIUS=100;X-TITLE=Gorzko Go
 rzko Szczecin:geo:53.423945,14.552926
END:VEVENT
BEGIN:VTIMEZONE
TZID:Europe/Warsaw
X-LIC-LOCATION:Europe/Warsaw
BEGIN:STANDARD
DTSTART:20191027T020000
TZOFFSETFROM:+0200
TZOFFSETTO:+0100
TZNAME:CET
END:STANDARD
END:VTIMEZONE
END:VCALENDAR