BEGIN:VCALENDAR
VERSION:2.0
PRODID:-//wp-events-plugin.com//7.2.3.1//EN
TZID:Europe/Warsaw
X-WR-TIMEZONE:Europe/Warsaw
BEGIN:VEVENT
UID:6849@night4u.pl
DTSTART;TZID=Europe/Warsaw:20190411T200000
DTEND;TZID=Europe/Warsaw:20190411T230000
DTSTAMP:20190210T153110Z
URL:https://night4u.pl/wydarzenia/tymanski-ciechowski-w-starym-klasztorze/
SUMMARY:Tymański / Ciechowski w Starym Klasztorze!
DESCRIPTION:Tymański/Ciechowski\nKoncert pod hasłem TYMAŃSKI/ CIECHOWSKI
  to intrygujący powrót do muzyki i tekstów\, które nigdy nie przestał
 y być aktualne\, stając się kanonem polskiego rocka. Tymon Tymański si
 ęga po utwory Grzegorza Ciechowskiego oraz legendarnej grupy Republika\, 
 jak również po swoje własne\, inspirowane twórczością tczewskiego ar
 tysty.\nTYMAŃSKI/CIECHOWSKI nie jest kolejnym koncertem pod hasłem "trib
 ute to". To bardziej sentymentalna podróż do źródeł dawnej\, młodzie
 ńczej fascynacji. Losy Tymańskiego i Ciechowskiego przecinały się kilk
 akrotnie\, choć za życia tego drugiego nie doszło miedzy nimi do wspó
 łpracy. W latach 2014-2015 Tymański był natomiast frontmanem zespołu N
 owe Sytuacje\, złożonego m. in. z byłych muzyków legendarnej Republiki
 . Jako "dziecko Republiki" jest tez bardzo często i chętnie zapraszany p
 rzez organizatorów corocznego koncertu pamięci Ciechowskiego\, organizow
 anego przez toruński klub Od Nowa.\n\n11.04.19 godz.20.00 Sala Gotycka w 
 Starym Klasztorze\, ul. Purkyniego 1\nTYMAŃSKI/ CIECHOWSKI\nmiejsca siedz
 ące: 50  zł – przedsprzedaż\, 60  zł – w dniu koncertu\nmiejsca st
 ojące: 40 zł – przedsprzedaż\, 45 zł – w dniu koncertu\n\nBilety d
 ostępne w sieci salonów Empik i MediaMarkt w całej Polsce\noraz w serwi
 sach: www.staryklasztor.com.pl/bilety/\, www.biletin.pl\, www.biletyna.pl\
 , www.eventim.pl\, www.ebilet.pl\, \nrezerwacje: bilety@o2.pl\n\nUwaga\, k
 upuj bilety wyłącznie w autoryzowanych punktach! \nZakup biletów poza a
 utoryzowanymi punktami sprzedaży (Facebook\, aukcje internetowe\, systemy
  odsprzedaży biletów itp.) stwarza ryzyko zakupu biletów nieoryginalnyc
 h lub nieważnych\, które nie umożliwią wejścia na koncert.
ATTACH;FMTTYPE=image/jpeg:https://night4u.pl/wp-content/uploads/2019/02/19
 992_image_51404758_2108107712569493_4791262234615480320_o.jpg
CATEGORIES:dolnośląskie
LOCATION:Stary Klasztor\, Purkyniego 1\, Wroclaw\, 50-155\, Poland
GEO:51.110198;17.039162
X-APPLE-STRUCTURED-LOCATION;VALUE=URI;X-ADDRESS=Purkyniego 1\, Wroclaw\, 50
 -155\, Poland;X-APPLE-RADIUS=100;X-TITLE=Stary Klasztor:geo:51.110198,17.0
 39162
END:VEVENT
BEGIN:VTIMEZONE
TZID:Europe/Warsaw
X-LIC-LOCATION:Europe/Warsaw
BEGIN:DAYLIGHT
DTSTART:20190331T030000
TZOFFSETFROM:+0100
TZOFFSETTO:+0200
TZNAME:CEST
END:DAYLIGHT
END:VTIMEZONE
END:VCALENDAR