BEGIN:VCALENDAR
VERSION:2.0
PRODID:-//wp-events-plugin.com//7.2.3.1//EN
TZID:Europe/Warsaw
X-WR-TIMEZONE:Europe/Warsaw
BEGIN:VEVENT
UID:37520@night4u.pl
DTSTART;TZID=Europe/Warsaw:20191229T210000
DTEND;TZID=Europe/Warsaw:20191230T040000
DTSTAMP:20191229T230542Z
URL:https://night4u.pl/wydarzenia/tymek-w-magnum-zakonczenie-roku-29-12/
SUMMARY:Grube zakończenie roku 29.12 ★ TYMEK w Magnum 14.02
DESCRIPTION:UWAGA ★ UWAGA \nDziś GRUBE ZAKOŃCZENIE ROKU! \nWIDZIMY SIĘ
  W MAGNUM! :) \nSTART 21.00! \n\n👉  Koncert TYMEK 14.02 💣💥\n➡ J
 ĘZYK CIAŁA ⬅ \n➡ RAINMAN ⬅\n➡ POZA KONTROLĄ ⬅\n\nZAGRAJĄ: TR
 IKS &amp\; TIMMEIT\nNIEDZIELA 29.12 | START: 21.00 | BILETY: 15 PLN\n-----
 ----------------------------\n★ Magnum Club★Wachów ★ul. Polna 13a
 ★\n★ Rezerwacje boksów: 605 050 240 ★\n★ Start : 21.00 ★
ATTACH;FMTTYPE=image/jpeg:https://night4u.pl/wp-content/uploads/2019/12/10
 4750_image_80565376_2637302092973198_3311591760001499136_o.jpg
CATEGORIES:opolskie
LOCATION:Magnum CLUB Wachów\, Polna 13\, Wachów\, 46-300\, Poland
GEO:50.844965;18.388158
X-APPLE-STRUCTURED-LOCATION;VALUE=URI;X-ADDRESS=Polna 13\, Wachów\, 46-300
 \, Poland;X-APPLE-RADIUS=100;X-TITLE=Magnum CLUB Wachów:geo:50.844965,18.
 388158
END:VEVENT
BEGIN:VTIMEZONE
TZID:Europe/Warsaw
X-LIC-LOCATION:Europe/Warsaw
BEGIN:STANDARD
DTSTART:20191027T020000
TZOFFSETFROM:+0200
TZOFFSETTO:+0100
TZNAME:CET
END:STANDARD
END:VTIMEZONE
END:VCALENDAR