BEGIN:VCALENDAR
VERSION:2.0
PRODID:-//wp-events-plugin.com//7.2.3.1//EN
TZID:Europe/Warsaw
X-WR-TIMEZONE:Europe/Warsaw
BEGIN:VEVENT
UID:32796@night4u.pl
DTSTART;TZID=Europe/Warsaw:20191019T190000
DTEND;TZID=Europe/Warsaw:20191019T235900
DTSTAMP:20200401T080716Z
URL:https://night4u.pl/wydarzenia/tymek-we-wroclawiu/
SUMMARY:Tymek we Wrocławiu!
DESCRIPTION:19.10.2019 zapraszamy Was do Akademia CLUB\, gdzie wystąpi Tym
 ek! \n\nBilety online:\nhttps://ticketos.pl/event/2586\n\nPoza Tymkiem w r
 amach Fresh N Dope Frontline wystąpią:\n- Wac Toja\n- Gedziula\n- Trill 
 Pem\n- BAMBAX\n\nI pula 49zł - W SPRZEDAŻY\nII pula 59zł \nIII pula 69z
 ł\n\n💎Bilet Prestige 79zł💎\nW skład biletu prestige wchodzą:\n- 
 Fresh N Dope Mixtape hosted by Wac Toja\n- silikonowa opaska festivalowa F
 resh N Dope\n- plakat okolicznościowy\n\nOsoby które nie ukończyły 16 
 lat\, mogą uczestniczyć w wydarzeniu\, będąc pod opieką osoby dorosł
 ej\, która bierze za nią pełną odpowiedzialność\, po zakupie biletó
 w dla osoby niepełnoletniej oraz dorosłej.\nOsoby niepełnoletnie od lat
  16 mogą uczestniczyć w wydarzeniu po okazaniu przy wejściu podpisanej 
 zgody przez opiekunów prawnych.\n\n⬇wzór zgody można pobrać tutaj⬇
 \ndrive.google.com/file/d/10bppYaSupwnvyAYTBbMt0GJddjKwEzxT/view?usp=shari
 ng\n\nPrzypominamy\, że kupując bilety od osób trzecich możecie zosta
 ć oszukani – ryzykujecie w ten sposób kupno fałszywych wejściówek\,
  które uniemożliwią wejście na koncert. Prosimy o kupowanie biletów w
 yłącznie w autoryzowanych punktach sprzedaży!\n\nW razie jakichkolwiek 
 pytań piszcie do nas 📥\nDo zobaczenia!
ATTACH;FMTTYPE=image/jpeg:https://night4u.pl/wp-content/uploads/2019/10/80
 130_image_72325647_2419884108125808_8521988896572047360_o.jpg
CATEGORIES:dolnośląskie
LOCATION:Akademia\, Grunwaldzka 67\, Wroclaw\, 50-357\, Poland
GEO:51.11448;17.06641
X-APPLE-STRUCTURED-LOCATION;VALUE=URI;X-ADDRESS=Grunwaldzka 67\, Wroclaw\, 
 50-357\, Poland;X-APPLE-RADIUS=100;X-TITLE=Akademia:geo:51.11448,17.06641
END:VEVENT
BEGIN:VTIMEZONE
TZID:Europe/Warsaw
X-LIC-LOCATION:Europe/Warsaw
BEGIN:DAYLIGHT
DTSTART:20190331T030000
TZOFFSETFROM:+0100
TZOFFSETTO:+0200
TZNAME:CEST
END:DAYLIGHT
END:VTIMEZONE
END:VCALENDAR