BEGIN:VCALENDAR
VERSION:2.0
PRODID:-//wp-events-plugin.com//7.2.3.1//EN
TZID:Europe/Warsaw
X-WR-TIMEZONE:Europe/Warsaw
BEGIN:VEVENT
UID:37303@night4u.pl
DTSTART;TZID=Europe/Warsaw:20200305T200000
DTEND;TZID=Europe/Warsaw:20200305T230000
DTSTAMP:20200305T010931Z
URL:https://night4u.pl/wydarzenia/tymon-tymanski-w-lord-jack-rzeszow/
SUMMARY:Tymon Tymański w Underground Pub
DESCRIPTION:Po roku Tymon Tymański wraca na scenę Underground Pub z premi
 erą solowej płyty "Paszkliwie". Album Tymona Tymańskiego to jego indywi
 dualny i w pełni niezależny głos na temat spraw\, które nurtują wspó
 łczesną Polskę. Album promuje singiel Wolność: https://youtu.be/H1PMb
 zb-5m0\n\nStart: 20.00\n\nBilety: 40 zł (przedsprzedaż) / 50 zł (w dniu
  koncertu)\nBilety fizyczne dostępne w barze Underground Pub (ul. Matejki
  10\, Rzeszów)\nBilety online: https://niezla-sztuka.pl/pl/i/Bilety/15\n\
 nILOŚĆ BILETÓW OGRANICZONA\n\n*\n\nTymon Tymański\n\nPaszkwile –  pr
 emiera solowego debiutu Tymona Tymańskiego\n\nPaszkwile to debiutancka so
 lowa płyta Tymona Tymańskiego na którą składa się 12 utworów częś
 ciowo odnoszących się do obserwacji polityczno-społeczno -światopoglą
 dowych. Muzycznie to mieszanka postrocka\, postjazzu i elektroniki. Płyt
 ę będzie można usłyszeć na rozpoczynającej się 25 października w w
 arszawskiej Hydrozagadce trasie koncertowej. Album promuje singiel Wolnoś
 ć.\n\nSolowy album Tymona Tymańskiego Paszkwile to jego indywidualny i w
  pełni niezależny głos na temat spraw\, które nurtują współczesną 
 Polskę.  Teksty są efektem wnikliwej obserwacji\, która przełożyła s
 ię\nna silną potrzebę ostrzeżenia przed zagrożeniem monopartyjności
 ą\ni reżimem.  Tymon opowiada też o swoim doświadczeniu polskiej wolno
 ści po 1989 roku\, zachęcając do postawienia na indywidualizm\, toleran
 cję i otwartość.\n\nPrzez 27 lat nie przyszło mi do głowy\, żeby agi
 tować\, pouczać i udzielać wykładów o tolerancji i wolności\, o dewa
 luacji wartości narodowych i wzroście znaczenia wartości jednostkowych.
 \nNa płycie bynajmniej nie odkrywam Ameryki\, o co dzisiaj trudno. Wszyst
 kie te racje znajdziecie Państwo genialnie i logicznie wyłożone choćby
  w Dziennikach Gombrowicza czy jego Rozmowach z Dominikiem DeRoux. A jedna
 k z różnych przyczyn Polacy nie odrobili tych ważnych lekcji światopog
 lądowych\, które uwalniają umysł z mentalnej ciasnoty. – mówi Tymon
  Tymański.\n\nW produkcji płyty wziął udział stały kwartet Tymański
 ego złożony z gitarzysty i współproducenta Marcina Gałązki\, pianist
 y Michała Wandzilaka i perkusisty Tomasza Kopra. Dodatkowo skorzystano z 
 talentów zaprzyjaźnionego bębniarza grupy Blinded Łukasza Kumańskiego
  oraz perkusisty Jacka Prościńskiego i saksofonisty Michała Jana Ciesie
 lskiego. Dzięki takiemu połączeniu muzycznych osobowości udało się s
 tworzyć  ambitny i eklektyczny album stanowiący kolaż postrocka\, postj
 azzu i elektroniki.\n\nMuzyczny styl to przeżytek. Staram się grać wszy
 stko\, co mi się podoba i co mnie inspiruje\, swobodnie żonglując styli
 styką i brzmieniem\, łącząc wyrafinowanie i piękno z zamierzoną brzy
 dotą. Ten muzyczny kierunek nazywa się ZEPSUTECH”. – dodaje Tymon.
ATTACH;FMTTYPE=image/jpeg:https://night4u.pl/wp-content/uploads/2020/02/10
 3047_image_84761296_2593543777584115_748513409854603264_o.jpg
CATEGORIES:podkarpackie
LOCATION:Lord Jack Rzeszów\, Rynek 4\, Rzeszów\, 35-064\, Poland
GEO:50.03706;22.00432
X-APPLE-STRUCTURED-LOCATION;VALUE=URI;X-ADDRESS=Rynek 4\, Rzeszów\, 35-064
 \, Poland;X-APPLE-RADIUS=100;X-TITLE=Lord Jack Rzeszów:geo:50.03706,22.00
 432
END:VEVENT
BEGIN:VTIMEZONE
TZID:Europe/Warsaw
X-LIC-LOCATION:Europe/Warsaw
BEGIN:STANDARD
DTSTART:20191027T020000
TZOFFSETFROM:+0200
TZOFFSETTO:+0100
TZNAME:CET
END:STANDARD
END:VTIMEZONE
END:VCALENDAR