BEGIN:VCALENDAR
VERSION:2.0
PRODID:-//wp-events-plugin.com//7.2.3.1//EN
TZID:Europe/Warsaw
X-WR-TIMEZONE:Europe/Warsaw
BEGIN:VEVENT
UID:15254@night4u.pl
DTSTART;TZID=Europe/Warsaw:20190510T120000
DTEND;TZID=Europe/Warsaw:20190510T160000
DTSTAMP:20190508T105056Z
URL:https://night4u.pl/wydarzenia/tytani-na-juwenaliach-politechniki-lubel
 skiej/
SUMMARY:Tytani na Juwenaliach Politechniki Lubelskiej!
DESCRIPTION:Wydarzenie jakiego jeszcze u nas nie było! \nW tym roku mamy z
 aszczyt gościć na naszych Juwenaliach drużynę futbolu amerykańskiego\
 , Tytani Lublin. \nEkipa zaplanowała dla nas pokazy oraz różnego rodzaj
 u konkursy\, które odbędą się 10 maja\, w godzinach 12-16 na Terenach 
 Zielonych Politechniki Lubelskiej. \nTytani opowiedzą\, a przede wszystki
 ch pokażą nam na czym polega futbol. \nPonadto sami będziemy mogli spr
 óbować swoich sił. Zainteresowani? \nPewnie\, że tak! \nCałość uśw
 ietni występ pięknych Cheerleaderek. \nNie może nas tam zabraknąć! Sp
 róbujmy się!
ATTACH;FMTTYPE=image/jpeg:https://night4u.pl/wp-content/uploads/2019/05/37
 698_image_59022838_2056936874401517_7826673862178766848_o.jpg
CATEGORIES:lubelskie
LOCATION:Tereny Zielone Politechniki Lubelskiej\, Nadbystrzycka\, Lublin\, 
 20-618\, Poland
GEO:51.23795;22.55076
X-APPLE-STRUCTURED-LOCATION;VALUE=URI;X-ADDRESS=Nadbystrzycka\, Lublin\, 20
 -618\, Poland;X-APPLE-RADIUS=100;X-TITLE=Tereny Zielone Politechniki Lubel
 skiej:geo:51.23795,22.55076
END:VEVENT
BEGIN:VTIMEZONE
TZID:Europe/Warsaw
X-LIC-LOCATION:Europe/Warsaw
BEGIN:DAYLIGHT
DTSTART:20190331T030000
TZOFFSETFROM:+0100
TZOFFSETTO:+0200
TZNAME:CEST
END:DAYLIGHT
END:VTIMEZONE
END:VCALENDAR