BEGIN:VCALENDAR
VERSION:2.0
PRODID:-//wp-events-plugin.com//7.2.3.1//EN
TZID:Europe/Warsaw
X-WR-TIMEZONE:Europe/Warsaw
BEGIN:VEVENT
UID:32565@night4u.pl
DTSTART;TZID=Europe/Warsaw:20191110T200000
DTEND;TZID=Europe/Warsaw:20191110T220000
DTSTAMP:20191107T091552Z
URL:https://night4u.pl/wydarzenia/ubiel-koncert-6-dzielnica/
SUMMARY:UBIEL koncert 6. dzielnica
DESCRIPTION:Ubiel to wieś na terenie obecnej Białorusi z długą i nieła
 twą historią – po II wojnie światowej\, wyludniona\, przestała de fa
 cto istnieć. Wiele lat wcześniej\, 5 maja 1819 roku w Ubielu urodził si
 ę Stanisław Moniuszko.\n\nSwoistą ścieżką dźwiękową dla tego miej
 sca jest ambientowo-eksperymentalny projekt muzyczny o takiej samej nazwie
 . Jako baza do jego stworzenia posłużyło siedem kameralnych kompozycji 
 Moniuszki\, ich charakter zmienił się jednak do tego stopnia\, że trudn
 o mówić tu o adaptacji\, a raczej o pochodnych\, autonomicznych bytach. 
 Jednym z podstawowych założeń projektu było całkowite odrzucenie klas
 ycznego instrumentarium. Zastąpił je system modularny\, urządzenia elek
 troakustyczne\, uzupełniły harmonicznie struktury dronowe i nagrania ter
 enowe. O wierności kompozycjom Moniuszki nie ma nawet mowy – choć mome
 ntami są one słyszalne\, to już po chwili ustępują miejsca improwizac
 ji i chaosowi. Maszyna nie da się bowiem łatwo okiełznać i zmusza do p
 rowadzenia z nią dialogu.\n\nW kwietniu 2019 r. ukazała się płyta CD p
 rojektu Ubiel wydana przez Fundację Nobiscum dzięki dofinansowaniu Miast
 a Płock.\n\nProjekt jest obecnie dostępny jako wydawnictwo cyfrowe na ht
 tps://piotrdabrowski.bandcamp.com/album/ubiel\ni do odsłuchu na:\nhttps:/
 /soundcloud.com/ubielambient\n\nUbiel na żywo to w znacznej mierze improw
 izowany projekt audiowizualny\, a odpowiedzialni za niego są Piotr Dąbro
 wski (muzyka) i Tom Skof (wizualizacje).\n\nPiotr Dąbrowski – płocki m
 uzyk\, producent\, realizator dźwięku. W ostatnim czasie skupiony na eks
 plorowaniu możliwości systemu modularnego\, różnorodnego instrumentari
 um elektronicznego i elektroakustycznego a także eksperymentujący z taś
 mą i technikami dubowymi. Tworzy głównie w estetyce ambientowej\, nie s
 troniąc również od trudnych do sklasyfikowania poszukiwań dźwiękowyc
 h i field recordingu. Jest kuratorem płockiego cyklu koncertowego Sygnał
 /Szum.\n\nTom Skof – prezentuje swoją twórczość podczas koncertów a
 udiowizualnych\, imprez klubowych oraz jako realizator multimediów. Motyw
 em przewodnim jego pracy jest relacja obrazu i dźwięku\, ich interakcja 
 i połączenie. Swoje projekty opiera na eksperymentowaniu z miksowaniem i
  generowaniem obrazu na żywo. Od 6 lat współtworzy projekt audiowizualn
 y Soundscape Mirror wraz z Krzysztofem Ostrowskim (Freeze). W ramach kolek
 tywu tworzą instalacje audiowizualne\, koncerty oraz wydarzenia interdysc
 yplinarne. Obecnie koncentruje się na eksploracji generatywnych form wizu
 alnych.\n\nBILETY: 15pln przed / 20pln w dniu \n\nREZERWACJI biletów w ce
 nie 15pln można dokonywać na \n6dzielnica@gmail.com w temacie: UBIEL \n\
 nZapraszamy!
ATTACH;FMTTYPE=image/jpeg:https://night4u.pl/wp-content/uploads/2019/10/78
 357_image_72718914_2627140357374186_8803143056405561344_o.jpg
CATEGORIES:łódzkie
LOCATION:6 dzielnica\, Piotrkowska 102\, Łódź\, 90-005\, Poland
GEO:51.765029;19.457371
X-APPLE-STRUCTURED-LOCATION;VALUE=URI;X-ADDRESS=Piotrkowska 102\, Łódź\,
  90-005\, Poland;X-APPLE-RADIUS=100;X-TITLE=6 dzielnica:geo:51.765029,19.4
 57371
END:VEVENT
BEGIN:VTIMEZONE
TZID:Europe/Warsaw
X-LIC-LOCATION:Europe/Warsaw
BEGIN:STANDARD
DTSTART:20191027T020000
TZOFFSETFROM:+0200
TZOFFSETTO:+0100
TZNAME:CET
END:STANDARD
END:VTIMEZONE
END:VCALENDAR