BEGIN:VCALENDAR
VERSION:2.0
PRODID:-//wp-events-plugin.com//7.2.3.1//EN
TZID:Europe/Warsaw
X-WR-TIMEZONE:Europe/Warsaw
BEGIN:VEVENT
UID:49757@night4u.pl
DTSTART;TZID=Europe/Warsaw:20200310T220000
DTEND;TZID=Europe/Warsaw:20200311T050000
DTSTAMP:20200331T140357Z
URL:https://night4u.pl/wydarzenia/ue-party-zaraza-szybciej-niz-wirus-domow
 ka/
SUMMARY:UE Party zaraża szybciej niż wirus | Domówka
DESCRIPTION:⚠️UWAGA\, WIADOMOŚĆ Z OSTATNIEJ CHWILI⚠️\n\nWracamy d
 o was z kolejnym gorącym tematem🔥😍\nZapraszamy na imprezę\, która
  zarazi Was energią do białego rana☣️☢️\n\nGdzie: Klub Domówka\
 nKiedy: wtorek 10.03\nTax:\nStudenci UE - lecą za free\nInne studenciaki 
 - 5 ziko\nReszta świata - 10 ziko
ATTACH;FMTTYPE=image/jpeg:https://night4u.pl/wp-content/uploads/2020/03/17
 3594_image_88228602_3057343417661899_2810794368514916352_o.jpg
CATEGORIES:dolnośląskie
LOCATION:Domówka\, Wroclaw\, Poland
GEO:51.110311;17.032917
X-APPLE-STRUCTURED-LOCATION;VALUE=URI;X-ADDRESS=Wroclaw\, Poland;X-APPLE-RA
 DIUS=100;X-TITLE=Domówka:geo:51.110311,17.032917
END:VEVENT
BEGIN:VTIMEZONE
TZID:Europe/Warsaw
X-LIC-LOCATION:Europe/Warsaw
BEGIN:STANDARD
DTSTART:20191027T020000
TZOFFSETFROM:+0200
TZOFFSETTO:+0100
TZNAME:CET
END:STANDARD
END:VTIMEZONE
END:VCALENDAR