BEGIN:VCALENDAR
VERSION:2.0
PRODID:-//wp-events-plugin.com//7.2.3.1//EN
TZID:Europe/Warsaw
X-WR-TIMEZONE:Europe/Warsaw
BEGIN:VEVENT
UID:15224@night4u.pl
DTSTART;TZID=Europe/Warsaw:20190509T220000
DTEND;TZID=Europe/Warsaw:20190510T030000
DTSTAMP:20190507T203802Z
URL:https://night4u.pl/wydarzenia/ukrop-live-w-friends-vagary-dazed-bros/
SUMMARY:UKROP Live w/ friends + Vagary (Dazed Bros)
DESCRIPTION:Zapraszamy na after za damke po warsztatach Moog&MPC Tour!\n\nT
 ej nocy zagrają dla Was:\n\n• UKROP Live [BAS] ☣️\n• Vagary [Daze
 d Bros] ?\n• BREJKJANEK [666 VOLVO] ?\n• Maciej Ignatowski ?\n\n______
 _______________________________________\n\nW ramach cyklu Live Act - meet\
 , talk & jam\, Audiostacja wspólnie ze Szpitalną 1\, zapraszają na wars
 ztaty z syntezy subtraktywnej\, na przykładzie syntezatorów marki Moog\,
  wykorzystywanych do grania aktów przez prowadzących (Julek Tarasiuk\, M
 ikołaj Dygasiewicz – UKROP)\, na żywo. Będziecie mogli także wysłuc
 hać krótkiego wykładu z historii samplerów\, z rodziny AKAI MPC\, uży
 wanych też przez prowadzących\, w set-upie live.\n\n____________________
 _____________________________\n\n• UKROP Live – Mikołaj Dygasiewicz o
 raz Julek Tarasiuk – dwóch producentów z Warszawy\, współtworzących
  duet UKROP\, dostarczających za pomocą swoich analogowych maszyn oraz w
 inylowych sampli brutalną\, mroczną\, tętniącą energią\, szeroko poj
 ętą\, taneczną muzykę elektroniczną. Dużą satysfakcję odnajdują r
 ównież w przenoszeniu tej właśnie maszynerii do scenerii klubowej\, ż
 eby dać tańczącym moment naładowany niezwykle energetyczną muzyką\, 
 której długo nie zapomną. \n___________________________________________
 _\n\n• BREJKJANEK [VOLVO666] – warszawski kolekcjoner płyt winylowych
 \, beat-maker\, miłośnik muzyki oraz dobrej zabawy\, współzałożyciel
  składu hip-hopowego VOLVO 666\, w którym to jego orężem jest legendar
 ne MPC60. Swoimi setami wywołuje wśród tańczących nieodpartą potrzeb
 ę tupania nogą w rytm jego nienagannej selekcji. \n\n___________________
 ___________________________\n\n• Maciej Ignatowski – warszawski produc
 ent muzyki elektronicznej\, adept realizacji dźwięku\, nieograniczający
  się jednak wyłącznie do brzmień muzyki tanecznej elektronicznej. Swoj
 e zamiłowanie do muzyki eksploruje korzystając\nz analogowego ekwipunku\
 , ale odnajduje również przyjemność w graniu dj-setów. \n\nacid house
 / ebm / jungle / footwork / industrial techno / idm\n\n{WEJŚCIE FREE} ?
ATTACH;FMTTYPE=image/jpeg:https://night4u.pl/wp-content/uploads/2019/05/37
 627_image_59606509_830855820613370_6386073871832842240_n.jpg
CATEGORIES:małopolskie
LOCATION:Szpitalna 1\, Szpitalna 1\, Kraków\, 31-041\, Poland
GEO:50.06186;19.94065
X-APPLE-STRUCTURED-LOCATION;VALUE=URI;X-ADDRESS=Szpitalna 1\, Kraków\, 31-
 041\, Poland;X-APPLE-RADIUS=100;X-TITLE=Szpitalna 1:geo:50.06186,19.94065
END:VEVENT
BEGIN:VTIMEZONE
TZID:Europe/Warsaw
X-LIC-LOCATION:Europe/Warsaw
BEGIN:DAYLIGHT
DTSTART:20190331T030000
TZOFFSETFROM:+0100
TZOFFSETTO:+0200
TZNAME:CEST
END:DAYLIGHT
END:VTIMEZONE
END:VCALENDAR