BEGIN:VCALENDAR
VERSION:2.0
PRODID:-//wp-events-plugin.com//7.2.3.1//EN
TZID:Europe/Warsaw
X-WR-TIMEZONE:Europe/Warsaw
BEGIN:VEVENT
UID:5463@night4u.pl
DTSTART;TZID=Europe/Warsaw:20190201T210000
DTEND;TZID=Europe/Warsaw:20190202T030000
DTSTAMP:20190130T175825Z
URL:https://night4u.pl/wydarzenia/umowilem-sie-z-nia-na-dziewiata-czyli-pa
 rty-w-wyszynku-2/
SUMMARY:Umówiłem się z nią na dziewiątą\, czyli party w Wyszynku
DESCRIPTION:Idzie luty\, podkuj buty ❗ W pierwszy weekend lutego zaprasza
 my na mocne\, imprezowe uderzenie do Club Wyszynk. Gramy najlepszą muzę 
 ? w mieście\, czyli bezdyskusyjnie - najlepszą mieszankę starych\, nowy
 ch oraz najbardziej znanych imprezowych hitów ❗ O pozytywne emocje zadb
 a DJ Barti i K.J. Pięćdziesiąt pierwszych Pań do godz. 22 wchodzi za F
 REE. Bo co byśmy bez Was zrobili drogie Panie :) Nie zabraknie promocji 
 ❗ Na barze królował będzie Johnnie Walker na lodzie za 14 ziko\, a to
 warzyszył mu będzie Jack Daniel's ❗ Poczujcie power of the long weeken
 d :) Jesteśmy dla Was ❗ Zarezerwujcie bezpłatnie lożę\, dzwoniąc po
 d numer: 13 43 612 27 lub 882 478 141 ❗\n\n★ Weekend PromoBar ★\n? W
 hisky & Cola: 14\,- PLN (Jack Daniel's lub Johnnie Walker Red Label\, Cola
 \, lód)\n? Johnnie Walker na lodzie: 14\,- PLN (Johnnie Walker Red Label\
 , sok jabłkowy\, soczysta pomarańcza\, lód)\n? rumowo-korzenne piwo Cap
 tain Jack w cenie 6 zł ❗\n? deska dowolnych\, 10 shot'ów z karty w cen
 ie 40 zł ❗\n? zamów 6 piw Pilsner Urquell\, a czeski kufel otrzymasz G
 RATIS ❗\n\n✘ 1\, 2 lutego (piątek\, sobota) ✘\n☛ wiek: 18+\n☛ w
 jazd: 5\,- PLN\, po godz. 22:00: 10\,- PLN\n☛ pierwsze 50 Pań wchodzi d
 o klubu za FREE\n☛ masz dziś urodziny? wchodzisz za FREE\n☛ obowiązu
 je: door selection\n☛ zaczynamy o 21:00\, gramy do 3:00\n☛ za konsolet
 ą: piątek - DJ Barti\, sobota - DJ K.J.\n☛ lokal klimatyzowany\n☛ og
 rzewany ogródek\n☛ nie odpowiadamy za rzeczy pozostawione w lokalu\n\n
 ☎ Rezerwacje ☎\nBezpłatne rezerwacje loży przyjmowane są pod numere
 m tel. 13 4361227 lub 882 478 141\, od wtorku do piątku od godz. 17:00 do
  22:00 oraz w sobotę od 12:00 do 22:00 i niedzielę od godziny 12:00 do 2
 0:00 ❗ Nie odbieramy telefonu stacjonarnego? Dzwoń pod numer 882 478 14
 1 ❗\n\nBez stroju formalnego\, ubierz się tak jak Ci wygodnie. Aczkolwi
 ek dresy\, bojówki itp. stroje zostawiamy sobie na inną okazję \;) Zapr
 oś znajomych\, udostępnij wydarzenie\, przyjdź :)\n\n? Chcesz zorganizo
 wać swoje urodziny\, imieniny\, wieczór panieński\, czy kawalerski - te
 n dzień jest dla Ciebie. Zgłoś się do Nas\, zadzwoń: 13 43 612 27\, 8
 82 478 141 lub napisz na bar@wyszynk.com\n\n? Jemy Na Imprezie ❗\nW pią
 tek i sobotę\, od godziny 22:00 do północy serwujemy ? zestaw po gruzi
 ńsku\, kapsalon\, frytki\, zapiekanki\, pieczoną kiełbaskę oraz pizzę
  ? Margherita\, Vegetariano\, Capriciosa\, Salama\, Pollo oraz Pepperoni.\
 n\nClub Wyszynk zastrzega sobie prawo do selekcji gości i może odmówić
  wstępu bez podania przyczyny. Wstęp tylko dla osób pełnoletnich.
ATTACH;FMTTYPE=image/jpeg:https://night4u.pl/wp-content/uploads/2019/01/16
 840_image_51059208_307238649929544_6817500102605668352_o.jpg
CATEGORIES:podkarpackie
LOCATION:Pub &amp\; Club Wyszynk\, Okrzei 1\, Krosno\, 38-400\, Poland
GEO:49.696929;21.761701
X-APPLE-STRUCTURED-LOCATION;VALUE=URI;X-ADDRESS=Okrzei 1\, Krosno\, 38-400\
 , Poland;X-APPLE-RADIUS=100;X-TITLE=Pub & Club Wyszynk:geo:49.696929,21.76
 1701
END:VEVENT
BEGIN:VTIMEZONE
TZID:Europe/Warsaw
X-LIC-LOCATION:Europe/Warsaw
BEGIN:STANDARD
DTSTART:20181028T020000
TZOFFSETFROM:+0200
TZOFFSETTO:+0100
TZNAME:CET
END:STANDARD
END:VTIMEZONE
END:VCALENDAR