BEGIN:VCALENDAR
VERSION:2.0
PRODID:-//wp-events-plugin.com//7.2.3.1//EN
TZID:Europe/Warsaw
X-WR-TIMEZONE:Europe/Warsaw
BEGIN:VEVENT
UID:48987@night4u.pl
DTSTART;TZID=Europe/Warsaw:20200305T200000
DTEND;TZID=Europe/Warsaw:20200306T020000
DTSTAMP:20200305T105532Z
URL:https://night4u.pl/wydarzenia/una-noche-en-la-havana-05-03-2020/
SUMMARY:Una Noche En La Havana // 05.03.2020
DESCRIPTION:ENGLISH VERSION BELOW // www.where2b.org/RinMusicClub\nImprezy 
 w rytmie latino niezwykle przypadły Wam do gustu! \nMając to na uwadze\,
  kontynuujemy czwartkowy cykl z najgorętszymi latynoskimi i tropikalnymi 
 beatami w roli głównej!\nNie zabraknie dźwięków do salsy\, bachaty cz
 y reggaeton! \nO to wszystko i wiele więcej zadba MC FRANKIE!\nAby lepiej
  przenieść Was w świat pięknych nocy w Havanie\, przygotowaliśmy w pr
 omocyjnych cenach klasyczne Cuba Libre i Mojito!\nALL NIGHT LONG!\n\nPromo
 cja:\n- Grzane wino – 10 zł\n- CubaLibre: 12 zł\n- Mojito: 15 zł\n\nR
 ezerwacja: kontakt@rinclub.pl lub 608 399 538\nRIN your place\, music&amp\
 ; party…\n\n/ENGLISH VERSION/\n\nLatino rhythms are especially for you!\
 nWith this in mind\, we continue a Thursday series with the hottest Latin 
 and tropical beats in the lead role! There will be sounds for salsa\, bach
 ata or reggaeton!\nMusic by MC FRANKIE!\nTo better take you into the world
  of beautiful nights in Havana\, we've prepared classic Cuba Libre and Moj
 ito at promotional prices!\nALL NIGHT LONG!\n\nPromotion:\n- Mulled Wine 
 – 10pln\n- Cuba Libre – 12 pln\n- Mojito –15 pln\n\nReservation: kon
 takt@rinclub.pl / 608 399 538/12 422 25 79\nRIN your place\, music &amp\; 
 party…
ATTACH;FMTTYPE=image/jpeg:https://night4u.pl/wp-content/uploads/2020/02/16
 7883_image_87542048_3054052621280505_2215302689137360896_o.jpg
CATEGORIES:małopolskie
LOCATION:RIN music club\, ul. Szewska 14\, Kraków\, 31-009\, Poland
GEO:50.062663;19.934545
X-APPLE-STRUCTURED-LOCATION;VALUE=URI;X-ADDRESS=ul. Szewska 14\, Kraków\, 
 31-009\, Poland;X-APPLE-RADIUS=100;X-TITLE=RIN music club:geo:50.062663,19
 .934545
END:VEVENT
BEGIN:VTIMEZONE
TZID:Europe/Warsaw
X-LIC-LOCATION:Europe/Warsaw
BEGIN:STANDARD
DTSTART:20191027T020000
TZOFFSETFROM:+0200
TZOFFSETTO:+0100
TZNAME:CET
END:STANDARD
END:VTIMEZONE
END:VCALENDAR