BEGIN:VCALENDAR
VERSION:2.0
PRODID:-//wp-events-plugin.com//7.2.3.1//EN
TZID:Europe/Warsaw
X-WR-TIMEZONE:Europe/Warsaw
BEGIN:VEVENT
UID:19457@night4u.pl
DTSTART;TZID=Europe/Warsaw:20190619T220000
DTEND;TZID=Europe/Warsaw:20190620T050000
DTSTAMP:20190615T024811Z
URL:https://night4u.pl/wydarzenia/unibase-aloha-hawaii-party-coco-club/
SUMMARY:Unibase Aloha Hawaii Party | COCO Club
DESCRIPTION:#Unibase_pl wraz z #Cocomusicclub zapraszają na imprezę: "Uni
 base Aloha Hawaii Party”!\nGwarantujemy\, że tego wieczoru będziecie s
 ię świetnie bawić\, a to za sprawą pozytywnych doznań jakie dostarcz
 ą Wam dj-e i cała ekipa #cocostaff! \n\n--------------------------------
 -----------------------------------------------\nPROMOCJA DLA MIESZKANCÓW
  UNIBASE:\n\nOdbierz w biurze Unibase specjalną kartę\, dzięki której 
 czekają na Ciebie atrakcyjne zniżki na barze oraz wejście za free! \n\n
 Impreza tylko dla osób pełnoletnich!\n\n[ENG]\n\n#Unibase_pl with #Cocom
 usicclub invite you to the party: " Unibase Aloha Hawaii Party”!\n \n\nW
 e guarantee that this evening you will have a great time. DJs and the whol
 e team of #cocostaff will provide an unforgettable experience!\n\n--------
 -----------------------------------------------------------------------\nD
 ISCOUNTS FOR UNIBASE RESIDENTS:\n\nCollect a special card at the Unibase o
 ffice\, with this card you can enjoy attractive discounts at the bar and e
 ntry for free!\n\nThe event is only for people who are over 18 years old!
ATTACH;FMTTYPE=image/jpeg:https://night4u.pl/wp-content/uploads/2019/06/46
 904_image_64240936_2258429121087823_3687375272115437568_o.jpg
CATEGORIES:małopolskie
LOCATION:Klub Coco Kraków\, Szpitalna 38\, Kraków\, 31-024\, Poland
GEO:50.06422;19.94218
X-APPLE-STRUCTURED-LOCATION;VALUE=URI;X-ADDRESS=Szpitalna 38\, Kraków\, 31
 -024\, Poland;X-APPLE-RADIUS=100;X-TITLE=Klub Coco Kraków:geo:50.06422,19
 .94218
END:VEVENT
BEGIN:VTIMEZONE
TZID:Europe/Warsaw
X-LIC-LOCATION:Europe/Warsaw
BEGIN:DAYLIGHT
DTSTART:20190331T030000
TZOFFSETFROM:+0100
TZOFFSETTO:+0200
TZNAME:CEST
END:DAYLIGHT
END:VTIMEZONE
END:VCALENDAR