BEGIN:VCALENDAR
VERSION:2.0
PRODID:-//wp-events-plugin.com//7.2.3.1//EN
TZID:Europe/Warsaw
X-WR-TIMEZONE:Europe/Warsaw
BEGIN:VEVENT
UID:11749@night4u.pl
DTSTART;TZID=Europe/Warsaw:20190404T220000
DTEND;TZID=Europe/Warsaw:20190405T050000
DTSTAMP:20190403T193742Z
URL:https://night4u.pl/wydarzenia/univercity-studenckie-czwartki-lista-fb/
SUMMARY:UniverCity: Studenckie czwartki / Lista FB
DESCRIPTION:UniverCity\, czyli z Wasza ulubiona cotygodniowa impreza dla st
 udentów wszystkich kierunków. \n\nZabawę umilą Wasze ulubione promocje
 : \nJägerbomb - 12 PLN\nShot Wyborowej - 5 PLN\nPiwo 0\,5 - 6 PLN\n\nO ś
 cieżkę dźwiękową i dobrą zabawę zadba KMN.\nZ głośników RAP i R&
 B.\n\nLista Facebook do 23:00 wstęp FREE (listę zamykamy w czwartek o 20
 :00)\nDarmowe wejście dla studentów przez całą noc (pozostali: 10 PLN)
 \n#jakczwartektocity\n\n*English version*\n\nUniverCity -  your favourite 
 student party.\n\nOur classic drink specials will help you make it through
  the night:\nJägerbomb - 12 PLN\nWyborowa Vodka shot - 5 PLN\nBeer 0\,5l 
 - 6 PLN\n\nSoundtrack provided by the one and only KMN.\nMusic: RAP & RNB.
 \n\nFree entry for all students (non-students - 10 PLN)\n#studentthursdays
 \n\nSee you there!
ATTACH;FMTTYPE=image/jpeg:https://night4u.pl/wp-content/uploads/2019/04/30
 187_image_56161489_10161549792425111_3415498065547624448_o.jpg
CATEGORIES:zachodniopomorskie
LOCATION:City Hall Club\, 3 MAJA 18\, Szczecin\, 70-215\, Poland
GEO:53.420078;14.549235
X-APPLE-STRUCTURED-LOCATION;VALUE=URI;X-ADDRESS=3 MAJA 18\, Szczecin\, 70-2
 15\, Poland;X-APPLE-RADIUS=100;X-TITLE=City Hall Club:geo:53.420078,14.549
 235
END:VEVENT
BEGIN:VTIMEZONE
TZID:Europe/Warsaw
X-LIC-LOCATION:Europe/Warsaw
BEGIN:DAYLIGHT
DTSTART:20190331T030000
TZOFFSETFROM:+0100
TZOFFSETTO:+0200
TZNAME:CEST
END:DAYLIGHT
END:VTIMEZONE
END:VCALENDAR