BEGIN:VCALENDAR
VERSION:2.0
PRODID:-//wp-events-plugin.com//7.2.3.1//EN
TZID:Europe/Warsaw
X-WR-TIMEZONE:Europe/Warsaw
BEGIN:VEVENT
UID:26930@night4u.pl
DTSTART;TZID=Europe/Warsaw:20191009T213000
DTEND;TZID=Europe/Warsaw:20191010T050000
DTSTAMP:20191015T104335Z
URL:https://night4u.pl/wydarzenia/unsound-solidarity-room-4-resistance-clu
 b-chai-at-szpitalna-1/
SUMMARY:Unsound Kraków 2019: Room 4 Resistance &amp\; Club Chai at Szpital
 na 1
DESCRIPTION:Festiwal Unsound ponownie na Szpitalnej 1.\n\nClub Chai z Oakla
 nd i Room 4 Resistance z Berlina połączą siły\, by wspólnie zagrać p
 odczas imprezy na Szpitalnej 1. Oba kolektywy skupione są na pomocy DJ-ko
 m i producentkom\, również queerowym i niebinarnym. Budują one wokół 
 siebie również  wyjątkową społeczność. FOOZOOL i 8ULENTINA zgłębi
 ają diasporyczne narracje oraz posługują się niezachodnimi dźwiękami
 . Obok nich na scenie zaprezentują się także Deena Abdelwahed z Tunezji
 \,która podobnie do dwóch wymienionych wcześniej DJ-ek stara się poł
 ączyć tradycję z przyszłością oraz Luz\, której eklektyczne sety mi
 eszają wiele gatunków. \n\nDeena Abdelwahed \nhttps://soundcloud.com/dee
 naabdelwahed\nLuz - DJ\nhttps://soundcloud.com/r4r_luz\n8ULENTINA\nhttps:/
 /soundcloud.com/8ulentina\nFOOZOOL\nhttps://soundcloud.com/foozool\nobject
  blue\nhttps://soundcloud.com/objectblue\nAvtomat\nhttps://soundcloud.com/
 avtomatmusic\nRrrkrta\nhttps://soundcloud.com/rrrkrta\nNatalie Schchepansk
 ye Erotic Pleasure\nhttps://soundcloud.com/szczepcio\nSatin de Compostela\
 nhttps://soundcloud.com/satindecompostela\n\nWydarzenie wspiera We are Eur
 ope.\n\nBilety: 30 pln do kupienia na bramce. Limitowana ilość!\n\n|||||
 ||||||||||||||||||||||||||||||||||||||||||||||||||||||||||||\n\nUnsound co
 mes back to Szpitalna 1!\n\nOakland’s Club Chai and Berlin’s Room 4 Re
 sistance join forces for a mid-week party at Szpitalna 1. Both collectives
  focus on queer femme / non-binary producers and DJ’s and an ethos of co
 mmunity-building. FOOZOOL and 8ULENTINA explore diasporic narratives and n
 on-Western sounds. They will dj alongside Tunisian artist Deena Abdelwahed
 \, who also inhabits a space between tradition and futurism\, and Luz\, wh
 ose sets traverse many genres. \n\nAdditional artists will soon be added t
 o the lineup. \n\nDeena Abdelwahed\nhttps://soundcloud.com/deenaabdelwahed
 \nLuz - DJ\nhttps://soundcloud.com/r4r_luz\n8ULENTINA  \nhttps://soundclou
 d.com/8ulentina\nFOOZOOL\nhttps://soundcloud.com/foozool\nobject blue\nhtt
 ps://soundcloud.com/objectblue\nAvtomat\nhttps://soundcloud.com/avtomatmus
 ic\nRrrkrta\nhttps://soundcloud.com/rrrkrta\nNatalie Schchepanskye Erotic 
 Pleasure\nhttps://soundcloud.com/szczepcio\nSatin de Compostela\nhttps://s
 oundcloud.com/satindecompostela\n\nThe event is supported by We are Europe
 \n\nTickets: 30 pln\, to be purchased on the door. Limited amount!
ATTACH;FMTTYPE=image/jpeg:https://night4u.pl/wp-content/uploads/2019/09/62
 779_image_70296977_1509881329163905_3905883373976944640_o.jpg
CATEGORIES:małopolskie
LOCATION:Szpitalna 1\, Szpitalna 1\, Kraków\, 31-041\, Poland
GEO:50.06186;19.94065
X-APPLE-STRUCTURED-LOCATION;VALUE=URI;X-ADDRESS=Szpitalna 1\, Kraków\, 31-
 041\, Poland;X-APPLE-RADIUS=100;X-TITLE=Szpitalna 1:geo:50.06186,19.94065
END:VEVENT
BEGIN:VTIMEZONE
TZID:Europe/Warsaw
X-LIC-LOCATION:Europe/Warsaw
BEGIN:DAYLIGHT
DTSTART:20190331T030000
TZOFFSETFROM:+0100
TZOFFSETTO:+0200
TZNAME:CEST
END:DAYLIGHT
END:VTIMEZONE
END:VCALENDAR