BEGIN:VCALENDAR
VERSION:2.0
PRODID:-//wp-events-plugin.com//7.2.3.1//EN
TZID:Europe/Warsaw
X-WR-TIMEZONE:Europe/Warsaw
BEGIN:VEVENT
UID:34181@night4u.pl
DTSTART;TZID=Europe/Warsaw:20191102T220000
DTEND;TZID=Europe/Warsaw:20191103T050000
DTSTAMP:20191102T103202Z
URL:https://night4u.pl/wydarzenia/urban-classic-7/
SUMMARY:Urban Classic
DESCRIPTION:Urban Classic\, czyli wieczór z szeroko pojętą muzyką miejs
 ką.\nPrzez całą noc na parkiecie dominować będą klasyczne i newschoo
 lowe beaty starannie wyselekcjonowane i zmixowane.\nNa imprezie nie zabrak
 nie mieszanki dobrych\, soczystych\, różnorodnych stylowo kawałków.\n\
 nZa całość imprezy odpowiadać będzie Dj SempOne.\n\nTAX: \ndo 23:00 -
  10 PLN\nod 23:00 - 20 PLN\n\nWstęp od 19 lat.\n*W klubie obowiązuję se
 lekcja
ATTACH;FMTTYPE=image/jpeg:https://night4u.pl/wp-content/uploads/2019/10/87
 629_image_75361054_10162411712905111_5184119697724932096_n.jpg
CATEGORIES:zachodniopomorskie
LOCATION:City Hall Club\, 3 MAJA 18\, Szczecin\, 70-215\, Poland
GEO:53.420078;14.549235
X-APPLE-STRUCTURED-LOCATION;VALUE=URI;X-ADDRESS=3 MAJA 18\, Szczecin\, 70-2
 15\, Poland;X-APPLE-RADIUS=100;X-TITLE=City Hall Club:geo:53.420078,14.549
 235
END:VEVENT
BEGIN:VTIMEZONE
TZID:Europe/Warsaw
X-LIC-LOCATION:Europe/Warsaw
BEGIN:STANDARD
DTSTART:20191027T020000
TZOFFSETFROM:+0200
TZOFFSETTO:+0100
TZNAME:CET
END:STANDARD
END:VTIMEZONE
END:VCALENDAR