BEGIN:VCALENDAR
VERSION:2.0
PRODID:-//wp-events-plugin.com//7.2.3.1//EN
TZID:Europe/Warsaw
X-WR-TIMEZONE:Europe/Warsaw
BEGIN:VEVENT
UID:40939@night4u.pl
DTSTART;TZID=Europe/Warsaw:20191227T220000
DTEND;TZID=Europe/Warsaw:20191228T050000
DTSTAMP:20191227T215219Z
URL:https://night4u.pl/wydarzenia/urban-soldiers-presented-by-dj-noz-%e2%9
 e%a3-69beats-robdee/
SUMMARY:Urban Soldiers presented by DJ NOZ ➣ 69Beats + RobDee
DESCRIPTION:🌆 𝗨𝗥𝗕𝗔𝗡 𝗦𝗢𝗟𝗗𝗜𝗘𝗥𝗦 🌃
 \n\nCykl imprez z ekstremalnie miejską muzyką! Spodziewajcie się kombin
 acji rapu oraz basu na klasycznych i połamanych bębnach. Za muzykę odpo
 wiadać będę wyszukani reprezentanci sztuki dj'skiej z całej Polski\, z
 apraszani przez zaprzyjaźnionego DJ NOZ aka eNOZet człowieku. \n\n💥 D
 J 69Beats\n💥 RobDee The DJ\n\n🤩 Jim Beam + SOFT = 15 PLN\n\n⎺⎺
 ⎺⎺⎺⎺⎺⎺⎺⎺⎺⎺⎺⎺⎺⎺⎺⎺⎺⎺⎺⎺⎺⎺⎺⎺
 ⎺⎺⎺⎺⎺⎺⎺⎺⎺\n‣ WSTĘP TYLKO DLA OSÓB PEŁNOLETNICH.\n
 ‣ SELEKCJA - ORGANIZATOR MOŻE ODMÓWIĆ WEJŚCIA DO KLUBU.
ATTACH;FMTTYPE=image/jpeg:https://night4u.pl/wp-content/uploads/2019/12/12
 6938_image_81133505_1476707679174210_3477131877037375488_n.jpg
CATEGORIES:pomorskie
LOCATION:Cooltura Chmielna 101\, Chmielna 101\, Gdansk\, 80-748\, Poland
GEO:54.34722;18.65729
X-APPLE-STRUCTURED-LOCATION;VALUE=URI;X-ADDRESS=Chmielna 101\, Gdansk\, 80-
 748\, Poland;X-APPLE-RADIUS=100;X-TITLE=Cooltura Chmielna 101:geo:54.34722
 ,18.65729
END:VEVENT
BEGIN:VTIMEZONE
TZID:Europe/Warsaw
X-LIC-LOCATION:Europe/Warsaw
BEGIN:STANDARD
DTSTART:20191027T020000
TZOFFSETFROM:+0200
TZOFFSETTO:+0100
TZNAME:CET
END:STANDARD
END:VTIMEZONE
END:VCALENDAR