BEGIN:VCALENDAR
VERSION:2.0
PRODID:-//wp-events-plugin.com//7.2.3.1//EN
TZID:Europe/Warsaw
X-WR-TIMEZONE:Europe/Warsaw
BEGIN:VEVENT
UID:42040@night4u.pl
DTSTART;TZID=Europe/Warsaw:20200110T220000
DTEND;TZID=Europe/Warsaw:20200111T040000
DTSTAMP:20200109T175908Z
URL:https://night4u.pl/wydarzenia/urban-vibes-35/
SUMMARY:URBAN VIBES
DESCRIPTION:Vin Milton / Dj Nick / DJ Trycollins / Dj Natty\nJak co piątek
  zapraszają was na najlepszą imprezę w mieście! \n\nMuzycznie:\nAfro H
 ouse\, Afrobeats\, Dancehall\, Twerk &amp\; Hip Hop\n\n--&gt\;Zapisz się 
 na wydarzenie już dzisiaj lub do godziny 20.00 w dniu wydarzenia a wejdzi
 esz za FREE !\n\nWejście:\nLista FB - FREE do 23:00\nKarty klubowe 1+1 FR
 EE\nBilety: 20 pln\n\nRezerwacje:\nTel. 5000 1 5858\n_____________________
 __________\nVin Milton / Dj Nick/ DJ Trycollinss/ Dj Natty\nLike every fri
 day\, they invite you to the best party in the city! /\n\nMusic:\nAfro Hou
 se\, Afrobeats\, Dancehall\, Twerk &amp\; Hip Hop\n\n--&gt\;Sign up for th
 e event today or until 8:00 PM on the day of the event and you will enter 
 for FREE!\n\nEntry:\nFB List - FREE entry till 11:00 PM\nClub cards 1+1 FR
 EE\nTicket: 20 pln\nBookings:\nPhone nr 5000 1 5858
ATTACH;FMTTYPE=image/jpeg:https://night4u.pl/wp-content/uploads/2020/01/13
 2607_image_80689062_2480481235601294_3878951395000320000_o.jpg
CATEGORIES:mazowieckie
LOCATION:N58 Club\, ul. Nowy Świat 58\, Warsaw\, 00-363\, Poland
GEO:52.235367;21.018564
X-APPLE-STRUCTURED-LOCATION;VALUE=URI;X-ADDRESS=ul. Nowy Świat 58\, Warsaw
 \, 00-363\, Poland;X-APPLE-RADIUS=100;X-TITLE=N58 Club:geo:52.235367,21.01
 8564
END:VEVENT
BEGIN:VTIMEZONE
TZID:Europe/Warsaw
X-LIC-LOCATION:Europe/Warsaw
BEGIN:STANDARD
DTSTART:20191027T020000
TZOFFSETFROM:+0200
TZOFFSETTO:+0100
TZNAME:CET
END:STANDARD
END:VTIMEZONE
END:VCALENDAR