BEGIN:VCALENDAR
VERSION:2.0
PRODID:-//wp-events-plugin.com//7.2.3.1//EN
TZID:Europe/Warsaw
X-WR-TIMEZONE:Europe/Warsaw
BEGIN:VEVENT
UID:51261@night4u.pl
DTSTART;TZID=Europe/Warsaw:20210827T220000
DTEND;TZID=Europe/Warsaw:20210828T040000
DTSTAMP:20210827T135949Z
URL:https://night4u.pl/wydarzenia/urban-vibes-48/
SUMMARY:URBAN VIBES
DESCRIPTION:Urban Vibes hosted by Vin Milton\nKlubowicze eNki 58 !!!\nURBAN
  VIBES już w ten piątek 27.08 !!!\nWidzimy się !!!\n\nSTART: 22:00\n\nZ
 agrają:\nDJ NICK / DJ TRYCOLLINS / DJ STRETCHADELIC\n\nLista FB  Klikn
 ij WEZMĘ UDZIAŁ na stronie wydarzenia i od 22.00 do 23.00 wejście za FR
 EE\nListę zamykamy o godzinie 20.00 !\n\nBilety: 20 pln\nSzatnia: --> FRE
 E\n\n***************************************\n\nUrban Vibes hosted by Vin 
 Milton\neNka 58 Club Members !!!\nURBAN VIBES this Friday 27.08 !!!\nSee y
 ou !!!\n\nSTART: 22:00\n\nThey will play:\nDJ NICK / DJ TRYCOLLINS / DJ ST
 RETCHADELIC\n\nFB list  Click "WILL PARTICIPATE" on the event website a
 nd from 22.00 to 23.00 the entry is FREE\nWe close the list at 20.00!\n\nT
 ickets: 20 PLN\nCloakroom: -> FREE
ATTACH;FMTTYPE=image/jpeg:https://night4u.pl/wp-content/uploads/2021/08/18
 6765_image_239718172_2985809125068500_6267612995352219621_n.jpg
CATEGORIES:mazowieckie
LOCATION:N58 Club\, ul. Nowy Świat 58\, Warsaw\, 00-363\, Poland
GEO:52.235367;21.018564
X-APPLE-STRUCTURED-LOCATION;VALUE=URI;X-ADDRESS=ul. Nowy Świat 58\, Warsaw
 \, 00-363\, Poland;X-APPLE-RADIUS=100;X-TITLE=N58 Club:geo:52.235367,21.01
 8564
END:VEVENT
BEGIN:VTIMEZONE
TZID:Europe/Warsaw
X-LIC-LOCATION:Europe/Warsaw
BEGIN:DAYLIGHT
DTSTART:20210328T030000
TZOFFSETFROM:+0100
TZOFFSETTO:+0200
TZNAME:CEST
END:DAYLIGHT
END:VTIMEZONE
END:VCALENDAR