BEGIN:VCALENDAR
VERSION:2.0
PRODID:-//wp-events-plugin.com//7.2.3.1//EN
TZID:Europe/Warsaw
X-WR-TIMEZONE:Europe/Warsaw
BEGIN:VEVENT
UID:18151@night4u.pl
DTSTART;TZID=Europe/Warsaw:20190607T220000
DTEND;TZID=Europe/Warsaw:20190608T040000
DTSTAMP:20190603T203549Z
URL:https://night4u.pl/wydarzenia/urban-vibes-5/
SUMMARY:Urban Vibes
DESCRIPTION:Vin Milton / Dj Nick/ DJ Trycollins / DJ YBX\nJak co piątek za
 praszają was na najlepszą imprezę w mieście!\n\nMuzycznie:\nAfrobeats\
 , Dancehall\, Twerk & Hip Hop\n\n-->Zapisz się na wydarzenie już dzisiaj
  lub do godziny 20.00 w dniu wydarzenia a wejdziesz za FREE !\n\nWejście:
 \nLista FB - FREE do 23:00\nKarty klubowe 1+1 FREE\nBilety: 20 pln\n\nReze
 rwacje:\nTel. 5000 1 5858\n_______________________________\nVin Milton / D
 j Nick/ DJ Trycollinss / Dj YBX\nLike every friday\, they invite you to th
 e best party in the city!\n\n\nMusic:\nAfrobeats\, Dancehall\, Twerk & Hip
  Hop\n\n-->Sign up for the event today or until 20.00 on the day of the ev
 ent and you will enter for FREE!\n\nEntry:\nFB List - FREE entry till 23:0
 0\nClub cards 1+1 FREE\nTicket: 20 pln\nBookings:\nPhone nr 5000 1 5858
ATTACH;FMTTYPE=image/jpeg:https://night4u.pl/wp-content/uploads/2019/06/43
 924_image_62232460_2253148138334606_4752264318114856960_o.jpg
CATEGORIES:mazowieckie
END:VEVENT
BEGIN:VTIMEZONE
TZID:Europe/Warsaw
X-LIC-LOCATION:Europe/Warsaw
BEGIN:DAYLIGHT
DTSTART:20190331T030000
TZOFFSETFROM:+0100
TZOFFSETTO:+0200
TZNAME:CEST
END:DAYLIGHT
END:VTIMEZONE
END:VCALENDAR