BEGIN:VCALENDAR
VERSION:2.0
PRODID:-//wp-events-plugin.com//7.2.3.1//EN
TZID:Europe/Warsaw
X-WR-TIMEZONE:Europe/Warsaw
BEGIN:VEVENT
UID:30707@night4u.pl
DTSTART;TZID=Europe/Warsaw:20191030T220000
DTEND;TZID=Europe/Warsaw:20191031T040000
DTSTAMP:20191030T064034Z
URL:https://night4u.pl/wydarzenia/urban-vibes-halloween-special/
SUMMARY:Urban Vibes - Halloween Special
DESCRIPTION:To będzie jedna z tych edycji UV\, które "strasznie" zapadną
  w pamięci ...\nTu nie ma czego się jednak bać ...\nKto Was nastraszy? 
 \nPuk - puk... zgadnij kto ...3...2...1...\n\n\nWejście:\nLista FB - FREE
  do 23:00\nKarty klubowe 1+1 FREE\nBilety: 20 pln\n\nRezerwacje:\nTel. 500
 0 1 5858\n#################################\nIt will be one of those UV ed
 itions that will be "terribly" memorable ...\nThere is nothing to be afrai
 d of here ...\nWho will scare you?\nKnock - knock ... guess who ... 3 ... 
 2 ... 1 ...\n\n\n\nEntry:\nFB List - FREE entry till 23:00\nClub cards 1+1
  FREE\nTicket: 20 pln\nBookings:\nPhone nr 5000 1 5858
ATTACH;FMTTYPE=image/jpeg:https://night4u.pl/wp-content/uploads/2019/10/70
 958_image_71722026_2396729897309762_6638839496135671808_o.jpg
CATEGORIES:mazowieckie
LOCATION:N58 Club\, ul. Nowy Świat 58\, Warsaw\, 00-363\, Poland
GEO:52.235367;21.018564
X-APPLE-STRUCTURED-LOCATION;VALUE=URI;X-ADDRESS=ul. Nowy Świat 58\, Warsaw
 \, 00-363\, Poland;X-APPLE-RADIUS=100;X-TITLE=N58 Club:geo:52.235367,21.01
 8564
END:VEVENT
BEGIN:VTIMEZONE
TZID:Europe/Warsaw
X-LIC-LOCATION:Europe/Warsaw
BEGIN:STANDARD
DTSTART:20191027T020000
TZOFFSETFROM:+0200
TZOFFSETTO:+0100
TZNAME:CET
END:STANDARD
END:VTIMEZONE
END:VCALENDAR