BEGIN:VCALENDAR
VERSION:2.0
PRODID:-//wp-events-plugin.com//7.2.3.1//EN
TZID:Europe/Warsaw
X-WR-TIMEZONE:Europe/Warsaw
BEGIN:VEVENT
UID:34366@night4u.pl
DTSTART;TZID=Europe/Warsaw:20191101T221300
DTEND;TZID=Europe/Warsaw:20191102T050000
DTSTAMP:20191101T184204Z
URL:https://night4u.pl/wydarzenia/urban-vibes-jacob-core-3/
SUMMARY:Urban Vibes | Jacob Core
DESCRIPTION:Autorska impreza naszego przyjaciela Jacob Core\, właśnie pod
 czas tego wielkomiejskiego cyklu nasz zdolny partymaker selekcjonuje muzyk
 ę tak\, aby każdy mógł znaleźć coś dla siebie. \n\nZapraszamy wszys
 tkich na nocne harce przy akompaniamencie R'n'B\, Urban Music\, House. \n\
 nBez narzekania\, z uśmiechem na twarzy będziemy tańczyć do świtu\, w
  rytm najlepszych i najbardziej bujających hitów! Bądźcie z nami\, jak
  na prawdziwych Roommates przystało! \n\nStart 22:13\nWstęp: 20 PLN\,\nL
 ista FB Free do 0:13\nSelekcja\n\nPatronat Medialny\nRadio ESKA\n\nREZERWA
 CJE \n+48 732 538 638\ninfo@room13.pl\n______________________\n\nwww.room1
 3.pl\nfb.com/room13club\ninstagram.com/room13club
ATTACH;FMTTYPE=image/jpeg:https://night4u.pl/wp-content/uploads/2019/10/88
 625_image_73252092_2809932799030426_5890106029336690688_o.jpg
CATEGORIES:mazowieckie
LOCATION:ROOM 13 Club\, ul. Mazowiecka 13\, Warsaw\, 00-052\, Poland
GEO:52.237999;21.012896
X-APPLE-STRUCTURED-LOCATION;VALUE=URI;X-ADDRESS=ul. Mazowiecka 13\, Warsaw\
 , 00-052\, Poland;X-APPLE-RADIUS=100;X-TITLE=ROOM 13 Club:geo:52.237999,21
 .012896
END:VEVENT
BEGIN:VTIMEZONE
TZID:Europe/Warsaw
X-LIC-LOCATION:Europe/Warsaw
BEGIN:STANDARD
DTSTART:20191027T020000
TZOFFSETFROM:+0200
TZOFFSETTO:+0100
TZNAME:CET
END:STANDARD
END:VTIMEZONE
END:VCALENDAR