BEGIN:VCALENDAR
VERSION:2.0
PRODID:-//wp-events-plugin.com//7.2.3.1//EN
TZID:Europe/Warsaw
X-WR-TIMEZONE:Europe/Warsaw
BEGIN:VEVENT
UID:16874@night4u.pl
DTSTART;TZID=Europe/Warsaw:20190525T220000
DTEND;TZID=Europe/Warsaw:20190526T060000
DTSTAMP:20190522T094429Z
URL:https://night4u.pl/wydarzenia/urban-vibes-x-falcon1-dj-vazee/
SUMMARY:Urban Vibes x Falcon1 & Dj Vazee
DESCRIPTION:Zapraszamy na imprezę Urban Vibes! Solidna selekcja świeżych
  miejskich brzmień mistrzowsko podanych przez FALCON1 oraz VaZee Dj!\n\nS
 tart 22:00\nWejście 10zł\nLista FB free do 23.00\nPromo patio bar 22.00-
 23.00
ATTACH;FMTTYPE=image/jpeg:https://night4u.pl/wp-content/uploads/2019/05/41
 342_image_60874418_2687231311347202_8457548044781486080_o.jpg
CATEGORIES:śląskie
LOCATION:Klub Rura\, Aleja Najświętszej Maryi Panny 38\, Czestochowa\, 42
 -202\, Poland
GEO:50.81223;19.115088
X-APPLE-STRUCTURED-LOCATION;VALUE=URI;X-ADDRESS=Aleja Najświętszej Maryi 
 Panny 38\, Czestochowa\, 42-202\, Poland;X-APPLE-RADIUS=100;X-TITLE=Klub R
 ura:geo:50.81223,19.115088
END:VEVENT
BEGIN:VTIMEZONE
TZID:Europe/Warsaw
X-LIC-LOCATION:Europe/Warsaw
BEGIN:DAYLIGHT
DTSTART:20190331T030000
TZOFFSETFROM:+0100
TZOFFSETTO:+0200
TZNAME:CEST
END:DAYLIGHT
END:VTIMEZONE
END:VCALENDAR