BEGIN:VCALENDAR
VERSION:2.0
PRODID:-//wp-events-plugin.com//7.2.3.1//EN
TZID:Europe/Warsaw
X-WR-TIMEZONE:Europe/Warsaw
BEGIN:VEVENT
UID:27503@night4u.pl
DTSTART;TZID=Europe/Warsaw:20191009T200000
DTEND;TZID=Europe/Warsaw:20191009T230000
DTSTAMP:20190914T110808Z
URL:https://night4u.pl/wydarzenia/urodziny-agnieszki-osieckiej-w-starym-kl
 asztorze/
SUMMARY:Urodziny Agnieszki Osieckiej w Starym Klasztorze!
DESCRIPTION:Urodziny Agnieszki Osieckiej w Starym Klasztorze!\n\nEthno Jazz
  Festival zaprasza 9 października\, w 83. rocznicę urodzin Agnieszki Osi
 eckiej\, na koncert „Osiecka Jazzowo”.\nW Sali Gotyckiej w Starym Klas
 ztorze najpiękniejsze piosenki Agnieszki Osieckiej zaśpiewa Natalia Lubr
 ano z jazzowym kwartetem Krzysztofa Żesławskiego oraz młodzi wrocławsc
 y wokaliści - laureaci Festiwalu Twórczości Agnieszki Osieckiej "Bardzo
  Wielka Woda.\n\nOSIECKA-JAZZOWO to muzyczny projekt znanego wrocławskieg
 o muzyka Krzysztofa Żesławskiego współpracującego z zespołami Tax Fr
 ee i Wolna Grupa Bukowina\, który do współpracy zaprosił charyzmatyczn
 ą wokalistkę NATALIĘ LUBRANO.\nW grudniu 2016 roku ukazała się pierws
 za płyta zespołu.\nKrzysztof Żesławski od wielu lat jest propagatorem 
 twórczości Agnieszki Osieckiej\, pełni również funkcję kierownika mu
 zycznego  Festiwalu Twórczości Agnieszki Osieckiej "Bardzo Wielka Woda" 
 we Wrocławiu.\nNatalia ma za sobą współpracę m.in. z Andrzejem Smolik
 iem i zespołem Miloopa.\nW 2012 r . ukazała się jej solowa płyta pt. R
 .E.S.P.E.C.T.  \nNatalia Lubrano jest również laureatką Przeglądu Pios
 enki Aktorskiej we Wrocławiu\, gdzie otrzymała nagrodę publiczności.\n
 W 2014 r wzięła udział w V edycji The Voice of Poland\,  w drużynie To
 msona i Barona\, gdzie dotarła do progu półfinału.\n\nW skład zespoł
 u Krzysztof Żesławski Quartet & Natalia Lubrano wchodzą :\nNatalia Lubr
 ano - śpiew\nKrzysztof Żesławski - gitary\nŁukasz Perek - fortepian\nW
 ojtek Bergander - kontrabas\nJarosław Korzonek - perkusja\n\n9.10.19 godz
 .20.00 Sala Gotycka w Starym Klasztorze\, ul. Purkyniego 1\nURODZINY AGNIE
 SZKI OSIECKIEJ\nKrzysztof Żesławski Quartet & Natalia Lubrano + goście\
 nbilety: 60 zł – I miejsca\, 45 zł – II miejsca\, 30 zł – miejsca
  stojące\n\nBilety dostępne w sieci salonów Empik i MediaMarkt w całej
  Polsce\noraz w serwisach: www.staryklasztor.com.pl/bilety/\, www.biletin.
 pl\, www.biletyna.pl\, www.eventim.pl\, www.ebilet.pl\, \nrezerwacje: bile
 ty@o2.pl
ATTACH;FMTTYPE=image/jpeg:https://night4u.pl/wp-content/uploads/2019/09/64
 024_image_68934442_2393218280793293_3707893052442935296_n.jpg
CATEGORIES:dolnośląskie
LOCATION:Stary Klasztor\, Purkyniego 1\, Wroclaw\, 50-155\, Poland
GEO:51.110198;17.039162
X-APPLE-STRUCTURED-LOCATION;VALUE=URI;X-ADDRESS=Purkyniego 1\, Wroclaw\, 50
 -155\, Poland;X-APPLE-RADIUS=100;X-TITLE=Stary Klasztor:geo:51.110198,17.0
 39162
END:VEVENT
BEGIN:VTIMEZONE
TZID:Europe/Warsaw
X-LIC-LOCATION:Europe/Warsaw
BEGIN:DAYLIGHT
DTSTART:20190331T030000
TZOFFSETFROM:+0100
TZOFFSETTO:+0200
TZNAME:CEST
END:DAYLIGHT
END:VTIMEZONE
END:VCALENDAR