BEGIN:VCALENDAR
VERSION:2.0
PRODID:-//wp-events-plugin.com//7.2.3.1//EN
TZID:Europe/Warsaw
X-WR-TIMEZONE:Europe/Warsaw
BEGIN:VEVENT
UID:3694@night4u.pl
DTSTART;TZID=Europe/Warsaw:20190119T210000
DTEND;TZID=Europe/Warsaw:20190120T060000
DTSTAMP:20190116T101539Z
URL:https://night4u.pl/wydarzenia/urodziny-elvisa-stare-piosenki-noca-w-pr
 oznosci/
SUMMARY:Urodziny Elvisa / Stare piosenki nocą w próżności
DESCRIPTION:Elvis jest tylko jeden!\nŚwiętujemy w wyjątkowym stylu urodz
 iny Króla. \n\nBędzie Rock'n'Roll. Będzie Swing. Będzie piekielnie TAN
 ECZNIE. Będą przeboje\, będą stare piosenki. Będzie kosmos.\n\nRazem 
 z pomysłodawcą cyklu Stare Piosenki Nocą (Dlaczegolubiestarepiosenki) z
 apraszamy w wir przygody.\n\nZatańcz z nami.\n\n/ ZAGRAJĄ / \nSala Lustr
 zana:\nBartosz Mindewicz (Stare Piosenki Nocą)\nAdelix Ostaszkiewicz\n\nS
 ala Szampańska:\nMIKOS\nDj Łebski\n\n/ WEJŚCIE / \n? - wstęp free cał
 ą noc\nPozostali goście do 23:00 - free \n/ po 23:00 - 25 PLN\n\n/ ZASAD
 Y / \n- selekcja\n- dress code: wyjątkowość\n- tylko próżne zdjęcia\
 n\nRezerwacje loży: 506203214
ATTACH;FMTTYPE=image/jpeg:https://night4u.pl/wp-content/uploads/2019/01/11
 607_image_49641355_346388936092437_5780423637022539776_o.jpg
CATEGORIES:wielkopolskie
LOCATION:Próżność\, Niepodległości 8a\, Poznan\, 61-875\, Poland
GEO:52.405584;16.91872
X-APPLE-STRUCTURED-LOCATION;VALUE=URI;X-ADDRESS=Niepodległości 8a\, Pozna
 n\, 61-875\, Poland;X-APPLE-RADIUS=100;X-TITLE=Próżność:geo:52.405584,
 16.91872
END:VEVENT
BEGIN:VTIMEZONE
TZID:Europe/Warsaw
X-LIC-LOCATION:Europe/Warsaw
BEGIN:STANDARD
DTSTART:20181028T020000
TZOFFSETFROM:+0200
TZOFFSETTO:+0100
TZNAME:CET
END:STANDARD
END:VTIMEZONE
END:VCALENDAR