BEGIN:VCALENDAR
VERSION:2.0
PRODID:-//wp-events-plugin.com//7.2.3.1//EN
TZID:Europe/Warsaw
X-WR-TIMEZONE:Europe/Warsaw
BEGIN:VEVENT
UID:41054@night4u.pl
DTSTART;TZID=Europe/Warsaw:20200118T213000
DTEND;TZID=Europe/Warsaw:20200119T003000
DTSTAMP:20200331T192639Z
URL:https://night4u.pl/wydarzenia/urodziny-praskiego-w-oparach-absurdu/
SUMMARY:Urodziny Praskiego w Oparach Absurdu
DESCRIPTION:Praski to wyjątkowy duet muzyczny\, który od długiego czasu 
 grywa fantastyczne koncerty w naszych Oparach Absurdu.\nJuż 18 stycznia m
 amy okazję świętować Urodziny frontman`a- Jacka Gałązki. \nPrezenty 
 mile widziane\, ale najważniejsza jest Wasza obecność :)\n\nW programie
 :\n- rozgrzewający\, taneczny wieczór z folklorystyczną muzyką\n- melo
 die\, które nie pozwalają ustać spokojnie w miejscu\n- porywające swin
 gi i ogniste tanga przeplatane klimatycznymi\, rzewnymi balladami \n- upom
 inki i promocje na barze  \n\nW składzie:\nJacek Gałązka - gitara\, wok
 al\nMarcin Maroszek (gościnnie)- akordeon\n\nDATA: 18 stycznia 2020 (sobo
 ta)\nStart: 21:30 \nMIEJSCE: W Oparach Absurdu\, Ząbkowska 6\, Warszawa\n
 \nWstęp wolny! ☺
ATTACH;FMTTYPE=image/jpeg:https://night4u.pl/wp-content/uploads/2019/12/12
 7479_image_80679882_2818055694900842_7236633514207084544_n.jpg
CATEGORIES:mazowieckie
LOCATION:W Oparach Absurdu\, ul. Ząbkowska 6\, Praga\, 03-735\, Poland
GEO:52.252794;21.039056
X-APPLE-STRUCTURED-LOCATION;VALUE=URI;X-ADDRESS=ul. Ząbkowska 6\, Praga\, 
 03-735\, Poland;X-APPLE-RADIUS=100;X-TITLE=W Oparach Absurdu:geo:52.252794
 ,21.039056
END:VEVENT
BEGIN:VTIMEZONE
TZID:Europe/Warsaw
X-LIC-LOCATION:Europe/Warsaw
BEGIN:STANDARD
DTSTART:20191027T020000
TZOFFSETFROM:+0200
TZOFFSETTO:+0100
TZNAME:CET
END:STANDARD
END:VTIMEZONE
END:VCALENDAR