BEGIN:VCALENDAR
VERSION:2.0
PRODID:-//wp-events-plugin.com//7.2.3.1//EN
TZID:Europe/Warsaw
X-WR-TIMEZONE:Europe/Warsaw
BEGIN:VEVENT
UID:18182@night4u.pl
DTSTART;TZID=Europe/Warsaw:20190608T220000
DTEND;TZID=Europe/Warsaw:20190609T050000
DTSTAMP:20190603T203723Z
URL:https://night4u.pl/wydarzenia/urodziny-the-locals/
SUMMARY:Urodziny The Locals
DESCRIPTION:Sobota w najlepszym wydaniu razem z The Locals. Już dwa lata s
 ą z nami  Dużo się nie zmieniło dalej się kochamy i ciągle kręcą n
 ajlepsze imprezy w mieście. Wpadajcie zbić piąteczkę i napić się szo
 ta lub dwóch z chłopakami. \n\nZagrają:\nThe Locals WU & Suoma\nMATTHEW
  B.\n\nStart: 22.00\nwstęp:20 pln\nkarty klubowe wejście FREE\,\nlista F
 B* do 23.00 wejście FREE \nwstęp od 21 lat\nselekcja\npokolenie 30+ wst
 ęp macie za free - szanujemy doświadczenie imprezowe\, tak więc pokażc
 ie jak to się robi - zapraszamy!\n\n*wejście do klubu na listę fb jest 
 jednorazowe w ciągu danej imprezy\, ponowny wstęp wiąże się z opłat
 ą za wejście\, listę zamykamy o 21\n\n\nZAPRASZAMY!\n------------------
 --------------------------------------\n\nENTRY\nTickets \nClub cards / fr
 ee entry all night\nwe offer free entrance for guests 30+ yo\nFacebook lis
 t - one-time free entrance from 10 pm to 11 pm (we close the list at 9 pm\
 , so don’t forget to join the fb event before!)\nYou must be 21 years ol
 d to get in\n**selection - our club reserves the right to deny entry at se
 lector discretion.\n\nFOR TABLE RESERVATIONS PLEASE RSVP AT :\nOliwia 504 
 989 948\nhttp://bit.ly/1NsNghc\n\nStart: 10 pm
ATTACH;FMTTYPE=image/jpeg:https://night4u.pl/wp-content/uploads/2019/06/43
 978_image_61674543_2785639391453136_4008291740959113216_n.jpg
CATEGORIES:wielkopolskie
END:VEVENT
BEGIN:VTIMEZONE
TZID:Europe/Warsaw
X-LIC-LOCATION:Europe/Warsaw
BEGIN:DAYLIGHT
DTSTART:20190331T030000
TZOFFSETFROM:+0100
TZOFFSETTO:+0200
TZNAME:CEST
END:DAYLIGHT
END:VTIMEZONE
END:VCALENDAR