BEGIN:VCALENDAR
VERSION:2.0
PRODID:-//wp-events-plugin.com//7.2.3.1//EN
TZID:Europe/Warsaw
X-WR-TIMEZONE:Europe/Warsaw
BEGIN:VEVENT
UID:34861@night4u.pl
DTSTART;TZID=Europe/Warsaw:20191108T210000
DTEND;TZID=Europe/Warsaw:20191109T040000
DTSTAMP:20191107T092131Z
URL:https://night4u.pl/wydarzenia/urodziny-west-site-fitness-retro-disco-n
 ight/
SUMMARY:Urodziny West Site Fitness - Retro Disco Night
DESCRIPTION:★ RETRO DISCO NIGHT★URODZINY WEST SITE FITNESS\nNajbardziej
  roztańczona impreza w mieście ponownie \nw Drugim Domu! \n\nPo 21:00 cz
 eka na Was wspaniałe Urodzinowe After Party WEST SITE FITNESS  w Drugim D
 omu. \nKlubowicze West Site Fitness do 23:00 wchodzą za free oraz otrzymu
 ją od klubu specjalne promo na bar! \n\nBędzie się działo!\n\nTej nocy
  z głośników głównego parkietu popłynie niesamowita i nieokiełznana
  dawka niezapomnianych hitów lat 70\,80\, 90 oraz Disco \,Dance i Latino\
 n\nDopisujcie się\, udostępniajcie wydarzenie i zapraszajcie znajomych!\
 nDo zobaczenia!
ATTACH;FMTTYPE=image/jpeg:https://night4u.pl/wp-content/uploads/2019/11/91
 427_image_75252838_10158964525314992_7619749141085683712_o.jpg
CATEGORIES:łódzkie
LOCATION:Drugi Dom\, Mickiewicza 11\, Skierniewice\, 96-100\, Poland
GEO:51.96839;20.156641
X-APPLE-STRUCTURED-LOCATION;VALUE=URI;X-ADDRESS=Mickiewicza 11\, Skierniewi
 ce\, 96-100\, Poland;X-APPLE-RADIUS=100;X-TITLE=Drugi Dom:geo:51.96839,20.
 156641
END:VEVENT
BEGIN:VTIMEZONE
TZID:Europe/Warsaw
X-LIC-LOCATION:Europe/Warsaw
BEGIN:STANDARD
DTSTART:20191027T020000
TZOFFSETFROM:+0200
TZOFFSETTO:+0100
TZNAME:CET
END:STANDARD
END:VTIMEZONE
END:VCALENDAR