BEGIN:VCALENDAR
VERSION:2.0
PRODID:-//wp-events-plugin.com//7.2.3.1//EN
TZID:Europe/Warsaw
X-WR-TIMEZONE:Europe/Warsaw
BEGIN:VEVENT
UID:51846@night4u.pl
DTSTART;TZID=Europe/Warsaw:20250523T160000
DTEND;TZID=Europe/Warsaw:20250525T020000
DTSTAMP:20250520T204543Z
URL:https://night4u.pl/wydarzenia/ursynalia-2025-juwenalia-sggw/
SUMMARY:URSYNALIA 2025 - JUWENALIA SGGW
DESCRIPTION:💥URSYNALIA 2025 – 40. EDYCJA!💥 [ENG⬇️]\n\n📢23-24
  maja 2025 Stary Kampus SGGW\n\nNajbardziej wyczekiwane Juwenalia w Polsce
 ! Świętujemy okrągłą 40-tkę w najbardziej epickim stylu - dwa dni st
 udenckiego szaleństwa na kultowym kampusie SGGW!\n\nCo się będzie dzia
 ło?\n🎤 Najgorętsze nazwiska polskiej sceny muzycznej\n💣Energia nie
  do ogarnięcia\n🌴Strefa chilloutu i gastro\n🎉Masa niespodzianek\n
 💃🏼Integracja ze studentami z całej Warszawy\n\nLINEUP\n\n23.05.\n
 💥 - KęKę\n💥 - MISZEL\n💥 - KUKON\n💥 - ICH TROJE\n\n24.05.\n
 💥 - GIBBS\n💥 - MICHAŁ SZCZYGIEŁ\n💥 - TYMEK\n💥 - THE DUMPLING
 S\n\nBILETY ➡️ https://www.biletomat.pl/bilety/ursynalia-62621/\n\n
 💡 Pro tip: Zaproś ekipę\, zapisz się do wydarzenia i bądź na bież
 ąco z wszystkimi ogłoszeniami!\n\n---\n[ENG]\n\n💥URSYNALIA 2025 - 40T
 H EDITION!💥\n\n📢23-24 May 2025 | Stary Kampus SGGW\n\nPoland's most 
 anticipated student festival! We're celebrating our big 40th in the most e
 pic way - two days of student madness at the iconic Warsaw University of L
 ife Sciences campus!\n\nWhat's going down?\n🎤 The hottest names in Poli
 sh music\n💣 Energy through the roof\n🌴 Chill-out and food zones\n
 🎉 Tons of surprises\n💃🏼 Meet students from all over Warsaw\n\nLIN
 EUP\n\n23.05.\n💥 - KęKę\n💥 - MISZEL\n💥 - KUKON\n💥 - ICH TROJ
 E\n24.05.\n💥 - GIBBS\n💥 - MICHAŁ SZCZYGIEŁ\n💥 - TYMEK\n💥 - T
 HE DUMPLINGS\n\nTICKETS ➡️ https://www.biletomat.pl/bilety/ursynalia-6
 2621/\n\n💡 Pro tip: Bring your crew\, follow the event\, and stay tuned
  for all announcements!
ATTACH;FMTTYPE=image/jpeg:https://night4u.pl/wp-content/uploads/2025/05/UR
 SYNALIA-2025-JUWENALIA-SGGW.jpg
CATEGORIES:mazowieckie
LOCATION:Kampus SGGW\; ul. Nowoursynowska 166 Warszawa\, 02-787 Warsaw\, Po
 land\, Kampus SGGW\; ul. Nowoursynowska 166 Warszawa\, 02-787 Warsaw\, Pol
 and\, 
X-APPLE-STRUCTURED-LOCATION;VALUE=URI;X-ADDRESS=Kampus SGGW ul. Nowoursynow
 ska 166 Warszawa\, 02-787 Warsaw\, Poland\, ;X-APPLE-RADIUS=100;X-TITLE=Ka
 mpus SGGW; ul. Nowoursynowska 166 Warszawa\, 02-787 Warsaw\, Poland:geo:0,
 0
END:VEVENT
BEGIN:VTIMEZONE
TZID:Europe/Warsaw
X-LIC-LOCATION:Europe/Warsaw
BEGIN:DAYLIGHT
DTSTART:20250330T030000
TZOFFSETFROM:+0100
TZOFFSETTO:+0200
TZNAME:CEST
END:DAYLIGHT
END:VTIMEZONE
END:VCALENDAR