BEGIN:VCALENDAR
VERSION:2.0
PRODID:-//wp-events-plugin.com//7.2.3.1//EN
TZID:Europe/Warsaw
X-WR-TIMEZONE:Europe/Warsaw
BEGIN:VEVENT
UID:11734@night4u.pl
DTSTART;TZID=Europe/Warsaw:20190419T230000
DTEND;TZID=Europe/Warsaw:20190420T060000
DTSTAMP:20190403T193707Z
URL:https://night4u.pl/wydarzenia/utopia-w-wht-moth-berlin-szmer-azam-nixo
 n/
SUMMARY:Utopia w/ WHT MOTH (Berlin) / SZMER / AZAM / NIXON
DESCRIPTION:19 kwietnia podczas czwartej w tym roku pełni księżyca zwane
 j Pink full moon\,  prosto z Berlina WHT MOTH wraz ze Szmer'em  przyjadą 
 przedstawić się szczecińskiej publice na kolejnej już imprezie spod sz
 yldu Utøpia . Fakt iż obaj Panowie pracowali razem nad projektem który 
 zaowocował tackiem\,który  spotkał się z szerokim  uznaniem nakładem 
 TMM Records \, dodaje  pikanterii:)\nZapraszamy do wspólnej zabawy \n\nWH
 T MOTH / TMM Records (Berlin)\nSzmer / DRVMS LTD. (Warszawa)\nAzam / Utøp
 ia (Poznań)\nNixon (Szczecin)\n\nRules:\n- 18+\n- be nice\n- talk to ppl\
 nTAX: 20pln
ATTACH;FMTTYPE=image/jpeg:https://night4u.pl/wp-content/uploads/2019/04/30
 157_image_56364642_2473757355970530_6599898152944271360_o.jpg
CATEGORIES:zachodniopomorskie
LOCATION:Elefunk The Club\, pl. Żołnierza Polskiego 2\, Szczecin\, 70-551
 \, Poland
GEO:53.42819;14.55416
X-APPLE-STRUCTURED-LOCATION;VALUE=URI;X-ADDRESS=pl. Żołnierza Polskiego 2
 \, Szczecin\, 70-551\, Poland;X-APPLE-RADIUS=100;X-TITLE=Elefunk The Club:
 geo:53.42819,14.55416
END:VEVENT
BEGIN:VTIMEZONE
TZID:Europe/Warsaw
X-LIC-LOCATION:Europe/Warsaw
BEGIN:DAYLIGHT
DTSTART:20190331T030000
TZOFFSETFROM:+0100
TZOFFSETTO:+0200
TZNAME:CEST
END:DAYLIGHT
END:VTIMEZONE
END:VCALENDAR