BEGIN:VCALENDAR
VERSION:2.0
PRODID:-//wp-events-plugin.com//7.2.3.1//EN
TZID:Europe/Warsaw
X-WR-TIMEZONE:Europe/Warsaw
BEGIN:VEVENT
UID:50718@night4u.pl
DTSTART;TZID=Europe/Warsaw:20200829T210000
DTEND;TZID=Europe/Warsaw:20200830T060000
DTSTAMP:20200914T185915Z
URL:https://night4u.pl/wydarzenia/vacay-mode-on-29-08/
SUMMARY:Vacay Mode On // 29.08
DESCRIPTION:Koniec wakacji zbliża się wielkimi krokami\, tego wpadajcie w
  sobotę na nasz dach nacieszyć się ciepłymi\, letnimi wieczorami!\nDo 
 tego zimne drineczki przy basenie i wakacyjny klimat w głośnikach! Brzmi
  idealnie - do zobaczenia! \n\n\n\n\n❌ WEJŚCIE DO LOKALU MOŻLIWE JEST 
 TYLKO Z MASECZKĄ❌\n\n👉🏼 Możliwość zakupy maseczki w cenie 5 z
 ł\n\nREZERWACJE STOLIKÓW: \n☎️725700205\nOd WTORKU do SOBOTY\n13:00 
 - 16:00
ATTACH;FMTTYPE=image/jpeg:https://night4u.pl/wp-content/uploads/2020/09/18
 4732_image_118356538_3385317671511194_1857211127414227655_o.jpg
CATEGORIES:lubelskie
LOCATION:Riviera Klub Plażowy\, Lublin\, Poland
GEO:51.245225;22.557649
X-APPLE-STRUCTURED-LOCATION;VALUE=URI;X-ADDRESS=Lublin\, Poland;X-APPLE-RAD
 IUS=100;X-TITLE=Riviera Klub Plażowy:geo:51.245225,22.557649
END:VEVENT
BEGIN:VTIMEZONE
TZID:Europe/Warsaw
X-LIC-LOCATION:Europe/Warsaw
BEGIN:DAYLIGHT
DTSTART:20200329T030000
TZOFFSETFROM:+0100
TZOFFSETTO:+0200
TZNAME:CEST
END:DAYLIGHT
END:VTIMEZONE
END:VCALENDAR