BEGIN:VCALENDAR
VERSION:2.0
PRODID:-//wp-events-plugin.com//7.2.3.1//EN
TZID:Europe/Warsaw
X-WR-TIMEZONE:Europe/Warsaw
BEGIN:VEVENT
UID:37764@night4u.pl
DTSTART;TZID=Europe/Warsaw:20191228T190000
DTEND;TZID=Europe/Warsaw:20191228T230000
DTSTAMP:20191220T110117Z
URL:https://night4u.pl/wydarzenia/vader-martwa-aura-28-xii-gdynia/
SUMMARY:Vader\, Martwa Aura - 28 XII Gdynia
DESCRIPTION:Wraz z Massive Music (Official site) zapraszamy na koncert VADE
 R w gdyńskim Klub Muzyczny Ucho.\n\nNo Legends for Christmas – pod taki
 m szyldem Vader zagra w grudniu kilka koncertów\, na których usłyszymy 
 przede wszystkim kompozycje z De Profundis\, Litany i The Art of War. No\,
  ale pewnie i sporo innych. Set koncertowy ma trwać aż 90 minut!\n\nVade
 r\nMartwa Aura\n28 XII 2019\, Gdynia\nKlub Ucho\, św. Piotra 2\n\nbilety:
 \n55zł (przedsprzedaż na lefthandsounds.org)\n65zł (w dniu koncertu)\nT
 ak zbliżające się koncerty zapowiada lider zespołu\, Peter:\n\nZgodnie
  z zapowiedzią – związaną z odwołaniem drugiej tury “Legend Metalu
 ” – mamy dla Was specjalne koncerty\, na których przypomnieć chcemy 
 kilka ważnych płyt w historii Vadera. Będzie można usłyszeć obszerne
  fragmenty “De Profundis”\, “Litany” oraz “The Art of War”\, j
 ak też ostatniej EPki “Thy Messenger”. Prapremierowo zagramy także n
 owy kawałek z nadchodzącej dużymi krokami nowej płyty Vader. Obiecujem
 y około 90-minutowy ROZPIE***L !!! Serię koncertów nazwaliśmy – na c
 ześć wracającego na sceny Kinga Diamonda i Mercyful Fate – “NO LEGE
 NDS FOR CHRISTMAS”.\n\nZapraszamy serdecznie.\n\nJeszcze w grudniu po po
 łudniu.
ATTACH;FMTTYPE=image/jpeg:https://night4u.pl/wp-content/uploads/2019/11/10
 6266_image_76203992_2368367246619711_66046112997310464_o.jpg
CATEGORIES:pomorskie
LOCATION:Klub Muzyczny Ucho\, ul. Św. Piotra 2\, Gdynia\, 81-347\, Poland
GEO:54.524475;18.546909
X-APPLE-STRUCTURED-LOCATION;VALUE=URI;X-ADDRESS=ul. Św. Piotra 2\, Gdynia\
 , 81-347\, Poland;X-APPLE-RADIUS=100;X-TITLE=Klub Muzyczny Ucho:geo:54.524
 475,18.546909
END:VEVENT
BEGIN:VTIMEZONE
TZID:Europe/Warsaw
X-LIC-LOCATION:Europe/Warsaw
BEGIN:STANDARD
DTSTART:20191027T020000
TZOFFSETFROM:+0200
TZOFFSETTO:+0100
TZNAME:CET
END:STANDARD
END:VTIMEZONE
END:VCALENDAR