BEGIN:VCALENDAR
VERSION:2.0
PRODID:-//wp-events-plugin.com//7.2.3.1//EN
TZID:Europe/Warsaw
X-WR-TIMEZONE:Europe/Warsaw
BEGIN:VEVENT
UID:47203@night4u.pl
DTSTART;TZID=Europe/Warsaw:20200214T210000
DTEND;TZID=Europe/Warsaw:20200216T030000
DTSTAMP:20200215T145024Z
URL:https://night4u.pl/wydarzenia/valentines-party/
SUMMARY:Valentines Party
DESCRIPTION:Weekendowa Walentynkowa Imprezka w Kameleonie 🔥🔥🔥 Zapr
 aszamy wszystkich zakochanych oraz tych którzy szukają miłości❤️
 ❤️ Kochani w Sobotę gra DJ K.MILL \, a w Piąteczek DJ JAGODA Start j
 ak zawszę o godz. 21.00. Zapraszamy! 😉
ATTACH;FMTTYPE=image/jpeg:https://night4u.pl/wp-content/uploads/2020/02/15
 7417_image_86285822_2855264984566681_3182845730142289920_o.jpg
CATEGORIES:dolnośląskie
LOCATION:Kameleon\, Plac Władysława Jagiełły 1\, Kłodzko\, 57-300\, Po
 land
GEO:50.436108;16.650782
X-APPLE-STRUCTURED-LOCATION;VALUE=URI;X-ADDRESS=Plac Władysława Jagiełł
 y 1\, Kłodzko\, 57-300\, Poland;X-APPLE-RADIUS=100;X-TITLE=Kameleon:geo:5
 0.436108,16.650782
END:VEVENT
BEGIN:VTIMEZONE
TZID:Europe/Warsaw
X-LIC-LOCATION:Europe/Warsaw
BEGIN:STANDARD
DTSTART:20191027T020000
TZOFFSETFROM:+0200
TZOFFSETTO:+0100
TZNAME:CET
END:STANDARD
END:VTIMEZONE
END:VCALENDAR