BEGIN:VCALENDAR
VERSION:2.0
PRODID:-//wp-events-plugin.com//7.2.3.1//EN
TZID:Europe/Warsaw
X-WR-TIMEZONE:Europe/Warsaw
BEGIN:VEVENT
UID:46800@night4u.pl
DTSTART;TZID=Europe/Warsaw:20200215T120000
DTEND;TZID=Europe/Warsaw:20200215T220000
DTSTAMP:20200331T150014Z
URL:https://night4u.pl/wydarzenia/valentines-week-2/
SUMMARY:Valentine's WEEK
DESCRIPTION:Walentynkowy weekend w X-Demon VIP Lounge and Restaurant to kol
 acja we dwoje przy romantycznej muzyce na żywo. \nWykwintne dania\, stylo
 we wnętrza i występ skrzypka PATRYKA LEVICKIEGO !  A w karcie specjalne\
 , WALENTYNKOWE MENU.\nWeekend miłości w X-Demon VIP Lounge and Restauran
 t!\n\nRezerwacja: 510 86 00 88 !
ATTACH;FMTTYPE=image/jpeg:https://night4u.pl/wp-content/uploads/2020/02/15
 4075_image_84004393_2379228138849748_8939451630319828992_o-2.jpg
CATEGORIES:dolnośląskie
LOCATION:X-Demon VIP Lounge &amp\; Restaurant\, pl. Wolności 7a\, Wroclaw\
 , 50-071\, Poland
GEO:51.1072;17.027736
X-APPLE-STRUCTURED-LOCATION;VALUE=URI;X-ADDRESS=pl. Wolności 7a\, Wroclaw\
 , 50-071\, Poland;X-APPLE-RADIUS=100;X-TITLE=X-Demon VIP Lounge & Restaura
 nt:geo:51.1072,17.027736
END:VEVENT
BEGIN:VTIMEZONE
TZID:Europe/Warsaw
X-LIC-LOCATION:Europe/Warsaw
BEGIN:STANDARD
DTSTART:20191027T020000
TZOFFSETFROM:+0200
TZOFFSETTO:+0100
TZNAME:CET
END:STANDARD
END:VTIMEZONE
END:VCALENDAR