BEGIN:VCALENDAR
VERSION:2.0
PRODID:-//wp-events-plugin.com//7.2.3.1//EN
TZID:Europe/Warsaw
X-WR-TIMEZONE:Europe/Warsaw
BEGIN:VEVENT
UID:32451@night4u.pl
DTSTART;TZID=Europe/Warsaw:20191017T220000
DTEND;TZID=Europe/Warsaw:20191018T050000
DTSTAMP:20191017T093805Z
URL:https://night4u.pl/wydarzenia/vamos-a-la-tan-i-dj-tjago-i-kazdy-czwart
 ek-i-tan-3/
SUMMARY:Vamos a la TAN I dj Tjago I każdy czwartek I TAN
DESCRIPTION:VAMOS A LA TAN to czwartkowy cykl\, gdzie dominują rytmy latin
 o. Zapraszamy wszystkich spragnionych gorących klimatów ❤️\n\nVAMOS 
 A LA TAN!\nDJ Tjago\n\n\nHello party people 🎉 \n\nIt’s almost the wee
 kend so there’s no better way to celebrate it than shaking your hips and
  moving your feet to the hot latin rhythm 🎉🎉 \nCome to TAN\, have a 
 good time and enjoy our discounts for the whole night ✨\n\n💰 10pm-12a
 m FREE ENTRANCE\n💰 12am-1am 10zl \n💰 1am-5am 20zl \n\n🍹 Beer for 
 6zl\n🍹 Cuba Libre for 10zl\n🍹 Vodka+soft for 10zl\n🍹 Aperol Sprit
 z for 15zl\n\n🔥 🔥Be ready cause between 10pm-12am we’re having lat
 in dancing classes and animations with Agnieszka Kowalczyk 🔥🔥\n\nDoe
 sn’t matter if you can dance! We want to see you all with us on the danc
 e floor tomorrow night 💃
ATTACH;FMTTYPE=image/jpeg:https://night4u.pl/wp-content/uploads/2019/10/77
 980_image_73322776_2767888879909064_2870809853507403776_o.jpg
CATEGORIES:pomorskie
LOCATION:TAN Sopot\, Bohaterów Monte Cassino 63/6\, Sopot\, 81-767\, Polan
 d
GEO:54.44522;18.56758
X-APPLE-STRUCTURED-LOCATION;VALUE=URI;X-ADDRESS=Bohaterów Monte Cassino 63
 /6\, Sopot\, 81-767\, Poland;X-APPLE-RADIUS=100;X-TITLE=TAN Sopot:geo:54.4
 4522,18.56758
END:VEVENT
BEGIN:VTIMEZONE
TZID:Europe/Warsaw
X-LIC-LOCATION:Europe/Warsaw
BEGIN:DAYLIGHT
DTSTART:20190331T030000
TZOFFSETFROM:+0100
TZOFFSETTO:+0200
TZNAME:CEST
END:DAYLIGHT
END:VTIMEZONE
END:VCALENDAR