BEGIN:VCALENDAR
VERSION:2.0
PRODID:-//wp-events-plugin.com//7.2.3.1//EN
TZID:Europe/Warsaw
X-WR-TIMEZONE:Europe/Warsaw
BEGIN:VEVENT
UID:47148@night4u.pl
DTSTART;TZID=Europe/Warsaw:20200326T203000
DTEND;TZID=Europe/Warsaw:20200326T233000
DTSTAMP:20200323T040146Z
URL:https://night4u.pl/wydarzenia/vertigo-blues-night-presents-john-lee-ho
 oker-by-outsider/
SUMMARY:Vertigo Blues Night Presents: John Lee Hooker by Outsider
DESCRIPTION:ENGLISH VERSION BELOW\n\nKoncert legendy wrocławskiej sceny bl
 uesowej Outsider. Tym razem zaprezentują repertuar wielkiego bluesmana Jo
 hn Lee Hookera. Outsider\, niewolnicy bluesa\, stylu i brzmienia. Grają j
 uż ponad 30 lat\, kiedyś z brytyjskim dinozaurem Tonym McPhee (Groundhog
 s)\, kiedyś z amerykańską jazzwoman Loti Lewis. Oprócz surowych dźwi
 ęków West Side Chicago pojawia się swing\, soul i funky. Żelazne stand
 ardy znane z wykonań Muddy Watersa\, B. B. Kinga\, Johna Lee Hookera. Out
 sider nigdy nie gra dwa razy tak samo\, to nieprzerwana energetyczna impro
 wizacja. Męska muzyka!\n\nZachęcamy do rezerwacji miejsc w klubie: emena
 go.com/i/vertigojazz\n\n- - -\n\nVertigo Blues Night Presents: John Lee Ho
 oker by Outsider\n\nConcert of the Wroclaw legend of the blues scene - The
  Outsider. This time they will present the repertoire of the great bluesma
 n John Lee Hooker. \n\nBe sure to make a reservation by visiting: emenago.
 com/i/vertigojazz
ATTACH;FMTTYPE=image/jpeg:https://night4u.pl/wp-content/uploads/2020/02/15
 7128_image_85200738_2501152050140712_5678715500033474560_o.jpg
CATEGORIES:dolnośląskie
LOCATION:Vertigo Jazz Club & Restaurant\, Oławska 13\, Wroclaw\, 53-125\, 
 Poland
GEO:51.10835;17.03537
X-APPLE-STRUCTURED-LOCATION;VALUE=URI;X-ADDRESS=Oławska 13\, Wroclaw\, 53-
 125\, Poland;X-APPLE-RADIUS=100;X-TITLE=Vertigo Jazz Club & Restaurant:geo
 :51.10835,17.03537
END:VEVENT
BEGIN:VTIMEZONE
TZID:Europe/Warsaw
X-LIC-LOCATION:Europe/Warsaw
BEGIN:STANDARD
DTSTART:20191027T020000
TZOFFSETFROM:+0200
TZOFFSETTO:+0100
TZNAME:CET
END:STANDARD
END:VTIMEZONE
END:VCALENDAR