BEGIN:VCALENDAR
VERSION:2.0
PRODID:-//wp-events-plugin.com//7.2.3.1//EN
TZID:Europe/Warsaw
X-WR-TIMEZONE:Europe/Warsaw
BEGIN:VEVENT
UID:33530@night4u.pl
DTSTART;TZID=Europe/Warsaw:20191108T200000
DTEND;TZID=Europe/Warsaw:20191109T020000
DTSTAMP:20191107T211339Z
URL:https://night4u.pl/wydarzenia/vertigo-friday-night-presents-vertigo-ba
 nd/
SUMMARY:Vertigo Friday Night Presents: Vertigo Band
DESCRIPTION:Koncert jakich nie zobaczycie i usłyszycie nigdzie indziej. Ze
 spół\, który powstał specjalnie po to aby występować na naszej sceni
 e. Poprowadzi go niezastąpiona gwiazda wrocławskiej sceny muzycznej woka
 listka Natalia Szczypuła z siedmioosobowym składem. W repertuarze utwory
  takich wykonawców jak: AC/DC\, Stevie Wonder\, Sting i wielu innych. Wsz
 ystkie kompozycje opracowane są w wyjątkowych jazzowych aranżacjach. \n
 Zapraszamy!\n\nZachęcamy do rezerwacji miejsc w klubie: emenago.com/i/ver
 tigojazz
ATTACH;FMTTYPE=image/jpeg:https://night4u.pl/wp-content/uploads/2019/10/84
 263_image_72232711_2388437691412149_5547827458314600448_o.jpg
CATEGORIES:dolnośląskie
LOCATION:Vertigo Jazz Club & Restaurant\, Oławska 13\, Wroclaw\, 53-125\, 
 Poland
GEO:51.10835;17.03537
X-APPLE-STRUCTURED-LOCATION;VALUE=URI;X-ADDRESS=Oławska 13\, Wroclaw\, 53-
 125\, Poland;X-APPLE-RADIUS=100;X-TITLE=Vertigo Jazz Club & Restaurant:geo
 :51.10835,17.03537
END:VEVENT
BEGIN:VTIMEZONE
TZID:Europe/Warsaw
X-LIC-LOCATION:Europe/Warsaw
BEGIN:STANDARD
DTSTART:20191027T020000
TZOFFSETFROM:+0200
TZOFFSETTO:+0100
TZNAME:CET
END:STANDARD
END:VTIMEZONE
END:VCALENDAR