BEGIN:VCALENDAR
VERSION:2.0
PRODID:-//wp-events-plugin.com//7.2.3.1//EN
TZID:Europe/Warsaw
X-WR-TIMEZONE:Europe/Warsaw
BEGIN:VEVENT
UID:32953@night4u.pl
DTSTART;TZID=Europe/Warsaw:20191026T190000
DTEND;TZID=Europe/Warsaw:20191026T223000
DTSTAMP:20191026T211413Z
URL:https://night4u.pl/wydarzenia/vertigo-saturday-night-presents-girls-on
 -fire-gipsy-swing/
SUMMARY:Vertigo Saturday Night Presents: Girls On Fire - Gipsy &amp\; Swing
DESCRIPTION:Pierwszy taki koncert w Vertigo! \nStandardy oraz współczesne
  hity muzyki pop  w stylu gipsy swing. Utwory wykonywane na trzy głosy in
 spirowane zespołami Andrew Sisters\, Pupini Sisters.\nNa scenie charyzmat
 yczne wokalistki\, zwyciężczynie Opolskich Debiutów\, Girls on Fire\, w
  towarzystwie znakomitych wrocławskich muzyków. Niesamowita energia arty
 stów i oryginalne aranżacje sprawią\, że to będzie niezapomniany wiec
 zór.\nSkład: \nJoanna Cholewa\, \nMarta Dzwonkowska\, \nMonika Wiśniows
 ka Basel.\nTowarzyszą muzycy:\nMichał Wilczyński - gitara\, \nDominik M
 ąkosa - fortepian\, \nMarcin Spera kontrabas\, \nTomasz Garbera - perkusj
 a.\n\nZachęcamy do rezerwacji miejsc w klubie: emenago.com/i/vertigojazz
ATTACH;FMTTYPE=image/jpeg:https://night4u.pl/wp-content/uploads/2019/10/81
 029_image_70451123_2368479593407959_8165445708367790080_o.jpg
CATEGORIES:dolnośląskie
LOCATION:Vertigo Jazz Club & Restaurant\, Oławska 13\, Wroclaw\, 53-125\, 
 Poland
GEO:51.10835;17.03537
X-APPLE-STRUCTURED-LOCATION;VALUE=URI;X-ADDRESS=Oławska 13\, Wroclaw\, 53-
 125\, Poland;X-APPLE-RADIUS=100;X-TITLE=Vertigo Jazz Club & Restaurant:geo
 :51.10835,17.03537
END:VEVENT
BEGIN:VTIMEZONE
TZID:Europe/Warsaw
X-LIC-LOCATION:Europe/Warsaw
BEGIN:DAYLIGHT
DTSTART:20190331T030000
TZOFFSETFROM:+0100
TZOFFSETTO:+0200
TZNAME:CEST
END:DAYLIGHT
END:VTIMEZONE
END:VCALENDAR