BEGIN:VCALENDAR
VERSION:2.0
PRODID:-//wp-events-plugin.com//7.2.3.1//EN
TZID:Europe/Warsaw
X-WR-TIMEZONE:Europe/Warsaw
BEGIN:VEVENT
UID:42689@night4u.pl
DTSTART;TZID=Europe/Warsaw:20200214T210000
DTEND;TZID=Europe/Warsaw:20200214T233000
DTSTAMP:20200214T040310Z
URL:https://night4u.pl/wydarzenia/vertigo-valentines-jazz-day/
SUMMARY:Sold out - Vertigo Valentine’s Jazz Day
DESCRIPTION:ENGLISH VERSION BELOW\n\nW tym wyjątkowym dniu zapraszamy na 
 “miłosny” koncert\, gdzie będzie można usłyszeć największe utwor
 y jazzowe poświęcone miłości ale i nie tylko. Koncert poprowadzi wokal
 istka Paulina Jeżewska z jazzowym trio. \nPaulina Jeżewska - aktorka i w
 okalistka\, współpracująca między innymi z Teatrem Muzycznym Capitol\,
  Sceną pod Regałem\,  TV Puls\, biorąca udział w różnych przedsięwz
 ięciach aktorsko-muzycznych. Wielbicielka bluesa\, kotów i czerwonego wi
 na.\n\nBilety na koncert upoważniają do wstępu do klubu od godziny 20:3
 0. Rezerwacje w tym dniu na koncert o 21 przyjmujemy jedynie na godzinę 2
 0:30.\nBilety w cenach:\nI pula - 40 zł\nII pula - 50 zł\nIII pula - 60 
 zł\n\nZachęcamy do rezerwacji miejsc w klubie: emenago.com/i/vertigojazz
 \n\n- - -\n\nOn this special day we invite you to a "love" concert\, where
  you can hear the greatest jazz songs dedicated to love\, but not only. Th
 e concert will be led by singer Paulina Jeżewska with a jazz trio.\n\nTic
 kets for the concert authorize entry to the club from 20:30. Reservations 
 on this day for the concert at 21 we accept only at 20:30.\nTickets at pri
 ces:\n1st pot - PLN 40\nII pool - 50 PLN\nIII pool - 60 PLN\n\nWe encourag
 e you to make reservation: emenago.com/i/vertigojazz
ATTACH;FMTTYPE=image/jpeg:https://night4u.pl/wp-content/uploads/2020/02/13
 5136_image_84092237_2499628436959740_7104383104566951936_o.jpg
CATEGORIES:dolnośląskie
LOCATION:Vertigo Jazz Club & Restaurant\, Oławska 13\, Wroclaw\, 53-125\, 
 Poland
GEO:51.10835;17.03537
X-APPLE-STRUCTURED-LOCATION;VALUE=URI;X-ADDRESS=Oławska 13\, Wroclaw\, 53-
 125\, Poland;X-APPLE-RADIUS=100;X-TITLE=Vertigo Jazz Club & Restaurant:geo
 :51.10835,17.03537
END:VEVENT
BEGIN:VTIMEZONE
TZID:Europe/Warsaw
X-LIC-LOCATION:Europe/Warsaw
BEGIN:STANDARD
DTSTART:20191027T020000
TZOFFSETFROM:+0200
TZOFFSETTO:+0100
TZNAME:CET
END:STANDARD
END:VTIMEZONE
END:VCALENDAR