BEGIN:VCALENDAR
VERSION:2.0
PRODID:-//wp-events-plugin.com//7.2.3.1//EN
TZID:Europe/Warsaw
X-WR-TIMEZONE:Europe/Warsaw
BEGIN:VEVENT
UID:4945@night4u.pl
DTSTART;TZID=Europe/Warsaw:20190222T220000
DTEND;TZID=Europe/Warsaw:20190223T050000
DTSTAMP:20190124T160314Z
URL:https://night4u.pl/wydarzenia/vh-melanz-grand-f-audio-video-show/
SUMMARY:VH$ Melanż - Grand F - AUDIO & VIDEO SHOW
DESCRIPTION:Najgrubszy melanż w mieście z teledyskami miksowanymi na żyw
 o.\n\n::PROMO:::\n\n⚠️Bar 50% w dół & Wjazd FREE do 23 !\n⚠️Zare
 zerwuj lożę na min 6 os --> druga butelka 50 % taniej\n\n:::VIDEO MUSIC:
 ::\n\n♫ Grand F - Audio/Video Show - RnB\, Mashups\, Oldschools\, House 
 Bangers\n\n______________________________________\n● start: 22:00 ● se
 lekcja ●\nrezerwacje: http://tinyurl.com/Aqarium-MusicClub\n• Wjazd FR
 EE do 23\n• Panie / Studenci 7 zł \n• Panowie 10 zł \n• Karty klub
 owe / Zaproszenia obowiązują
ATTACH;FMTTYPE=image/jpeg:https://night4u.pl/wp-content/uploads/2019/01/15
 723_image_50808873_10155936072997327_7786992663625990144_n.jpg
CATEGORIES:opolskie
LOCATION:Aqarium Music Club\, ul. Franciszkańska 1\, Opole\, 45-021\, Pola
 nd
GEO:50.66778;17.92274
X-APPLE-STRUCTURED-LOCATION;VALUE=URI;X-ADDRESS=ul. Franciszkańska 1\, Opo
 le\, 45-021\, Poland;X-APPLE-RADIUS=100;X-TITLE=Aqarium Music Club:geo:50.
 66778,17.92274
END:VEVENT
BEGIN:VTIMEZONE
TZID:Europe/Warsaw
X-LIC-LOCATION:Europe/Warsaw
BEGIN:STANDARD
DTSTART:20181028T020000
TZOFFSETFROM:+0200
TZOFFSETTO:+0100
TZNAME:CET
END:STANDARD
END:VTIMEZONE
END:VCALENDAR