BEGIN:VCALENDAR
VERSION:2.0
PRODID:-//wp-events-plugin.com//7.2.3.1//EN
TZID:Europe/Warsaw
X-WR-TIMEZONE:Europe/Warsaw
BEGIN:VEVENT
UID:24427@night4u.pl
DTSTART;TZID=Europe/Warsaw:20190810T210000
DTEND;TZID=Europe/Warsaw:20190811T040000
DTSTAMP:20190809T215207Z
URL:https://night4u.pl/wydarzenia/video-live-mix-dj-wea-b-day-l-10-08-l-mo
 on-club-torun/
SUMMARY:Video Live Mix & Dj Wea B-Day l 10.08 l Moon Club Toruń
DESCRIPTION:Już w najbliższą sobotę 10 sierpnia czas na weekendową odp
 inkę! Drogie Panie\, ta NOC należeć będzie do Was! W naszym najgłębi
 ej położonym w Toruniu klubie odpoczniecie od upałów\, jednocześnie 
 świetnie bawiąc się w rytm największych wakacyjnych hitów???\nTego dn
 ia świętować będziemy urodziny naszej przyjaciółki Dj Ewa Wea ???? \
 n\nDodatkowo w naszym klubie odbędzie się niezwykły wieczór z teledysk
 ami w tle\, które będą wyświetlane na klubowych rzutnikach. Tego wiecz
 oru miksowana będzie nie tyko muzyka\, ale również video klipy. \n\nZa 
 konsoletą stanie:\n✔️ Dj Funk Dee\n✔️ Dj Ewa Wea (urodzinowy set 
 )\n\nPamiętajcie\, do 23.00 wszystkie panie wchodzą do klubu za darmo! ?
 ?\n\n ‼ BAR PROMO do północy ‼\n✔ Cuba Libre - 10 PLN\n✔ Gin&Ton
 ic - 10 PLN\n✔ Vodka Sour - 10 PLN\n✔ Jager soft - 10 PLN\n✔ Whisky 
 soft - 10 PLN\n\nWSTĘP :\nKobiety do 23.00  - FREE\nKobiety po 23.00  - 1
 0 PLN\nMężczyźni  - 10 PLN\n\nRezerwacji stolików prosimy dokonywać p
 oprzez wiadomość prywatną na Facebooku lub telefonicznie pod numerem te
 lefonu 505 059 056
ATTACH;FMTTYPE=image/jpeg:https://night4u.pl/wp-content/uploads/2019/08/57
 492_image_67785497_453827478801689_3209421222538379264_o.jpg
CATEGORIES:kujawsko-pomorskie
LOCATION:Moon Club Toruń\, ul Wysoka 2\, Torun\, 87-100\, Poland
GEO:53.013273;18.609145
X-APPLE-STRUCTURED-LOCATION;VALUE=URI;X-ADDRESS=ul Wysoka 2\, Torun\, 87-10
 0\, Poland;X-APPLE-RADIUS=100;X-TITLE=Moon Club Toruń:geo:53.013273,18.60
 9145
END:VEVENT
BEGIN:VTIMEZONE
TZID:Europe/Warsaw
X-LIC-LOCATION:Europe/Warsaw
BEGIN:DAYLIGHT
DTSTART:20190331T030000
TZOFFSETFROM:+0100
TZOFFSETTO:+0200
TZNAME:CEST
END:DAYLIGHT
END:VTIMEZONE
END:VCALENDAR