BEGIN:VCALENDAR
VERSION:2.0
PRODID:-//wp-events-plugin.com//7.2.3.1//EN
TZID:Europe/Warsaw
X-WR-TIMEZONE:Europe/Warsaw
BEGIN:VEVENT
UID:47510@night4u.pl
DTSTART;TZID=Europe/Warsaw:20200221T210000
DTEND;TZID=Europe/Warsaw:20200222T060000
DTSTAMP:20200222T001837Z
URL:https://night4u.pl/wydarzenia/viernes-la-gozadera-21-02/
SUMMARY:Viernes La Gozadera // 21.02
DESCRIPTION:Jedyne takie imprezy w mieście!\nViernes La Gozadera w El Cuba
 no!\nU nas poczujesz klimat gorącej Havany. \nNajbardziej roztańczone mi
 ejsce w Lublinie ♥\nNie zastanawiaj się i zacznij weekend na Hempla 5! 
 Do zobaczenia na parkiecie ♥ \n-----------------------------------------
 ----------------\n⭐️ PIĄTEK ⭐️ \n\n➡️Start 21:00\n➡️DO 23
 :00 LISTA FB WCHODZI FREE\n➡️PO 23:00 - 15 ZŁ \n\nBilet wstępu obowi
 ązuje do lokali:\nHelium Club\nRzut Beretem\nEl Cubano\n\n\nseats &amp\; 
 tables/ rezerwacje stolików\n☎️: 725700205 (wt-sob. 17:00-20:00)\nWej
 ście 18+ / DOOR SELECTION\n----------------------------------------------
 ---
ATTACH;FMTTYPE=image/jpeg:https://night4u.pl/wp-content/uploads/2020/02/15
 9258_image_84964900_2787278234681919_5028451898026360832_o.jpg
CATEGORIES:lubelskie
LOCATION:El Cubano Lublin\, Hempla 5\, Lublin\, 20-077\, Poland
GEO:51.24548;22.55754
X-APPLE-STRUCTURED-LOCATION;VALUE=URI;X-ADDRESS=Hempla 5\, Lublin\, 20-077\
 , Poland;X-APPLE-RADIUS=100;X-TITLE=El Cubano Lublin:geo:51.24548,22.55754
END:VEVENT
BEGIN:VTIMEZONE
TZID:Europe/Warsaw
X-LIC-LOCATION:Europe/Warsaw
BEGIN:STANDARD
DTSTART:20191027T020000
TZOFFSETFROM:+0200
TZOFFSETTO:+0100
TZNAME:CET
END:STANDARD
END:VTIMEZONE
END:VCALENDAR