BEGIN:VCALENDAR
VERSION:2.0
PRODID:-//wp-events-plugin.com//7.2.3.1//EN
TZID:Europe/Warsaw
X-WR-TIMEZONE:Europe/Warsaw
BEGIN:VEVENT
UID:40725@night4u.pl
DTSTART;TZID=Europe/Warsaw:20200404T210000
DTEND;TZID=Europe/Warsaw:20200405T000000
DTSTAMP:20200404T140355Z
URL:https://night4u.pl/wydarzenia/vinyl-rhythm-w-klubie-awaria/
SUMMARY:Vinyl Rhythm w klubie Awaria
DESCRIPTION:Gramy rock'n'roll
ATTACH;FMTTYPE=image/jpeg:https://night4u.pl/wp-content/uploads/2019/12/12
 4475_image_80247864_2599194886842891_4012625075197968384_o.jpg
CATEGORIES:małopolskie
LOCATION:Klub Awaria\, Mikołajska 9\, Kraków\, 31-027\, Poland
GEO:50.06133;19.94207
X-APPLE-STRUCTURED-LOCATION;VALUE=URI;X-ADDRESS=Mikołajska 9\, Kraków\, 3
 1-027\, Poland;X-APPLE-RADIUS=100;X-TITLE=Klub Awaria:geo:50.06133,19.9420
 7
END:VEVENT
BEGIN:VTIMEZONE
TZID:Europe/Warsaw
X-LIC-LOCATION:Europe/Warsaw
BEGIN:DAYLIGHT
DTSTART:20200329T030000
TZOFFSETFROM:+0100
TZOFFSETTO:+0200
TZNAME:CEST
END:DAYLIGHT
END:VTIMEZONE
END:VCALENDAR