BEGIN:VCALENDAR
VERSION:2.0
PRODID:-//wp-events-plugin.com//7.2.3.1//EN
TZID:Europe/Warsaw
X-WR-TIMEZONE:Europe/Warsaw
BEGIN:VEVENT
UID:3058@night4u.pl
DTSTART;TZID=Europe/Warsaw:20190126T183000
DTEND;TZID=Europe/Warsaw:20190126T235500
DTSTAMP:20190108T171348Z
URL:https://night4u.pl/wydarzenia/vinyl-unplugged/
SUMMARY:Vinyl Unplugged
DESCRIPTION:Zapraszamy na jedyny w swoim rodzaju koncert. 26 stycznia w Klu
 b Vinyl pojawią się znane rockowe zespoły w aranżacjach akustycznych:\
 n\n❆ Guitar Force\n❅ Raincoat\n❄ Insani\n❆ Kidz With Guns\n❅ Met
 romon\n❄ Z Bunkra Wzięci\n\n❆ Start: 18:30 ❆ Wstęp 10 PLN ❆
ATTACH;FMTTYPE=image/jpeg:https://night4u.pl/wp-content/uploads/2019/01/10
 238_image_49647081_2051326818288084_542125847436328960_o.jpg
CATEGORIES:podkarpackie
LOCATION:Klub Vinyl\, Fredry 4\, Rzeszów\, 35-005\, Poland
GEO:50.03998;22.00741
X-APPLE-STRUCTURED-LOCATION;VALUE=URI;X-ADDRESS=Fredry 4\, Rzeszów\, 35-00
 5\, Poland;X-APPLE-RADIUS=100;X-TITLE=Klub Vinyl:geo:50.03998,22.00741
END:VEVENT
BEGIN:VTIMEZONE
TZID:Europe/Warsaw
X-LIC-LOCATION:Europe/Warsaw
BEGIN:STANDARD
DTSTART:20181028T020000
TZOFFSETFROM:+0200
TZOFFSETTO:+0100
TZNAME:CET
END:STANDARD
END:VTIMEZONE
END:VCALENDAR