BEGIN:VCALENDAR
VERSION:2.0
PRODID:-//wp-events-plugin.com//7.2.3.1//EN
TZID:Europe/Warsaw
X-WR-TIMEZONE:Europe/Warsaw
BEGIN:VEVENT
UID:27533@night4u.pl
DTSTART;TZID=Europe/Warsaw:20191005T220000
DTEND;TZID=Europe/Warsaw:20191005T220000
DTSTAMP:20190914T111223Z
URL:https://night4u.pl/wydarzenia/visions-nokturn-2nd-anniversary-pres-sol
 vane/
SUMMARY:Visions Nokturn - 2nd Anniversary pres. Solvane
DESCRIPTION:Nokturn (łac. nocturnus) - nocny.\n\nTej nocy porwiemy Was w m
 agiczną krainę audiowizualnych i muzycznych doznań! ?\nDajcie się poni
 eść naszej mrocznej wizji nocy i obudźcie swoje uśpione zmysły! ? \n\
 nPrzy okazji świętujemy drugie urodziny naszej agencji artystycznej The 
 Visions!\n \nSpecjalnie dla Was z tej okazji wystąpi m.in. Solvane - prod
 ucent oraz dj który odwiedził takie festiwale jak: Burning Man\, Fusion 
 Festival\, Tokyo Circuss\, The Gathering New York\, Bangkok Glow.\n\n\n\nS
 OLVANE [Stil Vor Talent\, Ritter Butzke Studio\, EinMusika\, 3000grad] Ber
 lin \n\nChinese Cookies [Obiekt]\n\nCruzOe [Ciało]\n\nFrenzel [The Vision
 s]\n\nMarkovitz [The Visions]\n\nTomashevsky [The Visions]\n\n\n\nVISIONS 
 NOKTURN ?\n\nBądźcie czujni!
ATTACH;FMTTYPE=image/jpeg:https://night4u.pl/wp-content/uploads/2019/09/64
 091_image_69751460_734924196961398_7170827975212924928_o.jpg
CATEGORIES:dolnośląskie
LOCATION:Ciało\, Świdnicka 12\, Wroclaw\, 50-068\, Poland
GEO:51.106907;17.032125
X-APPLE-STRUCTURED-LOCATION;VALUE=URI;X-ADDRESS=Świdnicka 12\, Wroclaw\, 5
 0-068\, Poland;X-APPLE-RADIUS=100;X-TITLE=Ciało:geo:51.106907,17.032125
END:VEVENT
BEGIN:VTIMEZONE
TZID:Europe/Warsaw
X-LIC-LOCATION:Europe/Warsaw
BEGIN:DAYLIGHT
DTSTART:20190331T030000
TZOFFSETFROM:+0100
TZOFFSETTO:+0200
TZNAME:CEST
END:DAYLIGHT
END:VTIMEZONE
END:VCALENDAR