BEGIN:VCALENDAR
VERSION:2.0
PRODID:-//wp-events-plugin.com//7.2.3.1//EN
TZID:Europe/Warsaw
X-WR-TIMEZONE:Europe/Warsaw
BEGIN:VEVENT
UID:42400@night4u.pl
DTSTART;TZID=Europe/Warsaw:20200111T220000
DTEND;TZID=Europe/Warsaw:20200111T220000
DTSTAMP:20200331T193028Z
URL:https://night4u.pl/wydarzenia/viva-la-musica-z-angel-torres-sabado-11-
 01/
SUMMARY:VIVA la musica z Angel Torres // Sabado 11.01
DESCRIPTION:★ VIVA la musica ★ \n\nEl CUBANO \n[ul. Traugutta 3] Łód
 ź \n\nTylko u nas gorące kubańskie noce w każdy wekend 🔥\nKaraibski
 e klimaty\, latynoska muzyka\, rum\, salsa\, egzotyczni tancerze... \n\n-&
 gt\; Data: 11 stycznia 2020 \, SABADO ! \n-&gt\; Start: 22:00\, bawimy si
 ę do rana !!\n\nDJ: \n\n★ Angel \n\nSzkoła Tańca Urban Dance Zone - n
 ajwiększa szkoła tańca w Łodzi. Od 10 lat specjalizuje się m.in. w na
 uczaniu Salsy\, Bachaty\, Kizomby oraz technik pokrewnych. Gromadzi wielu 
 specjalistów oraz pasjonatów tego rodzaju tańca oraz muzyki. Otwarta 7 
 dni w tygodniu.\n\nwww.urbandance.pl\nhttps://www.facebook.com/urbandancez
 one/\n\nPROMO: \n☀ CUBA LIBRE 12 zł \n☀ MOJITO 14 zł\n\n\n\nWSTĘP: 
 15 zł \nDRESS CODE: cuban vibe\n\nREZERWACJE: \ntel. +48 508 - 508 - 488.
 \n\n🔥🔥 Najgorętszy parkiet w samym centrum Łodzi. Będzie goroąco
 . !! 🔥🔥\n\nLos amigos ♥
ATTACH;FMTTYPE=image/jpeg:https://night4u.pl/wp-content/uploads/2020/01/13
 3442_image_82377444_2684013588348106_6051557058333900800_n.jpg
CATEGORIES:łódzkie
END:VEVENT
BEGIN:VTIMEZONE
TZID:Europe/Warsaw
X-LIC-LOCATION:Europe/Warsaw
BEGIN:STANDARD
DTSTART:20191027T020000
TZOFFSETFROM:+0200
TZOFFSETTO:+0100
TZNAME:CET
END:STANDARD
END:VTIMEZONE
END:VCALENDAR